FILENAME: O4711507.NWS.56471.tif
QUADRANGLE_NAME: MANTRAP FORK
QUADRANT: NW
WEST_LONGITUDE: -115 15 0.00000
EAST_LONGITUDE: -115 11 15.00000
NORTH_LATITUDE: 48 0 0.00000
SOUTH_LATITUDE: 47 56 15.00000
PRODUCTION_DATE: 1997 3 15
RASTER_ORDER: LEFT_RIGHT/TOP_BOTTOM
BAND_ORGANIZATION: SINGLE FILE
BAND_CONTENT: BLACK&WHITE
BAND_CONTENT: UNDEFINED
BAND_CONTENT: UNDEFINED
BITS_PER_PIXEL: 8
SAMPLES_AND_LINES: 5501 7666
HORIZONTAL_DATUM: NAD83
HORIZONTAL_COORDINATE_SYSTEM: UTM
COORDINATE_ZONE: 11
HORIZONTAL_UNITS: METERS
HORIZONTAL_RESOLUTION: 1.00000
SECONDARY_HORIZONTAL_DATUM: NAD27
XY_ORIGIN: 630165.00000 5318195.00000
SECONDARY_XY_ORIGIN: 630243.40000 5317984.10000
NATION: US
STATE: MT
NW_QUAD_CORNER_XY: 630540.10000 5317781.91000
NE_QUAD_CORNER_XY: 635202.09000 5317889.65000
SE_QUAD_CORNERY_XY: 635365.36000 5310943.43000
SW_QUAD_CORNER_XY: 630697.74000 5310835.66000
SECONDARY_NW_QUAD_XY: 630544.21000 5317563.07000
SECONDARY_NE_QUAD_XY: 635206.34000 5317670.82000
SECONDARY_SE_QUAD_XY: 635369.61000 5310724.61000
SECONDARY_SW_QUAD_XY: 630701.85000 5310616.84000
RMSE_XY: 2.30000
IMAGE_SOURCE: BLACK AND WHITE FILM
SOURCE_IMAGE_ID: NAPP 8420 235
SOURCE_IMAGE_DATE: 1995 8 20
SOURCE_IMAGE_ID: NAPP 8420 233
SOURCE_IMAGE_DATE: 1995 8 20
SOURCE_DEM_DATE: 1997 3 15
AGENCY: WESTERN MAPPING CENTER (WMC)
PRODUCER: USFS
PRODUCTION_SYSTEM: DV2.6.3 10/9OV2.4 5/95
COMPRESSION: UNDEFINED
STANDARD_VERSION: 1996 12
METADATA_DATE: 1997 11 3
DATA_FILE_SIZE: 42176167
BYTE_COUNT: 5501
