FILENAME: O4711508.NWS.56431.tif
QUADRANGLE_NAME: BEND
QUADRANT: NW
WEST_LONGITUDE: -115 7 30.00000
EAST_LONGITUDE: -115 3 45.00000
NORTH_LATITUDE: 48 0 0.00000
SOUTH_LATITUDE: 47 56 15.00000
PRODUCTION_DATE: 1997 3 20
RASTER_ORDER: LEFT_RIGHT/TOP_BOTTOM
BAND_ORGANIZATION: SINGLE FILE
BAND_CONTENT: BLACK&WHITE
BAND_CONTENT: UNDEFINED
BAND_CONTENT: UNDEFINED
BITS_PER_PIXEL: 8
SAMPLES_AND_LINES: 5512 7673
HORIZONTAL_DATUM: NAD83
HORIZONTAL_COORDINATE_SYSTEM: UTM
COORDINATE_ZONE: 11
HORIZONTAL_UNITS: METERS
HORIZONTAL_RESOLUTION: 1.00000
SECONDARY_HORIZONTAL_DATUM: NAD27
XY_ORIGIN: 639489.00000 5318418.00000
SECONDARY_XY_ORIGIN: 639566.00000 5318207.00000
NATION: US
STATE: MT
NW_QUAD_CORNER_XY: 639863.98900 5318001.21500
NE_QUAD_CORNER_XY: 644525.94100 5318116.52300
SE_QUAD_CORNERY_XY: 644700.47900 5311170.35200
SW_QUAD_CORNER_XY: 640032.89400 5311055.01800
SECONDARY_NW_QUAD_XY: 639868.39100 5317782.38800
SECONDARY_NE_QUAD_XY: 644530.48900 5317897.70000
SECONDARY_SE_QUAD_XY: 644705.02700 5310951.54400
SECONDARY_SW_QUAD_XY: 640037.29500 5310836.20700
RMSE_XY: 1.50000
IMAGE_SOURCE: BLACK AND WHITE FILM
SOURCE_IMAGE_ID: NAPP 8420 105
SOURCE_IMAGE_DATE: 1995 8 20
SOURCE_DEM_DATE: 1997 3 20
AGENCY: WESTERN MAPPING CENTER (WMC)
PRODUCER: USFS
PRODUCTION_SYSTEM: DV2.6.3 10/9OV2.4 5/95
COMPRESSION: UNDEFINED
STANDARD_VERSION: 1996 12
METADATA_DATE: 1997 11 3
DATA_FILE_SIZE: 42299088
BYTE_COUNT: 5512
