FILENAME: O4711511.SWS.56643.tif
QUADRANGLE_NAME: LARCHWOOD
QUADRANT: SW
WEST_LONGITUDE: -115 45 0.00000
EAST_LONGITUDE: -115 41 15.00000
NORTH_LATITUDE: 47 48 45.00000
SOUTH_LATITUDE: 47 45 0.00000
PRODUCTION_DATE: 1997 3 13
RASTER_ORDER: LEFT_RIGHT/TOP_BOTTOM
BAND_ORGANIZATION: SINGLE FILE
BAND_CONTENT: BLACK&WHITE
BAND_CONTENT: UNDEFINED
BAND_CONTENT: UNDEFINED
BITS_PER_PIXEL: 8
SAMPLES_AND_LINES: 5472 7636
HORIZONTAL_DATUM: NAD83
HORIZONTAL_COORDINATE_SYSTEM: UTM
COORDINATE_ZONE: 11
HORIZONTAL_UNITS: METERS
HORIZONTAL_RESOLUTION: 1.00000
SECONDARY_HORIZONTAL_DATUM: NAD27
XY_ORIGIN: 593205.00000 5296596.00000
SECONDARY_XY_ORIGIN: 593282.00000 5296387.00000
NATION: US
STATE: MT
NW_QUAD_CORNER_XY: 593581.03200 5296217.14900
NE_QUAD_CORNER_XY: 598260.00600 5296294.68800
SE_QUAD_CORNERY_XY: 598377.86800 5289348.51300
SW_QUAD_CORNER_XY: 593693.28000 5289270.95700
SECONDARY_NW_QUAD_XY: 593583.96500 5295998.34000
SECONDARY_NE_QUAD_XY: 598263.08600 5296075.88200
SECONDARY_SE_QUAD_XY: 598380.94800 5289129.72500
SECONDARY_SW_QUAD_XY: 593696.21300 5289052.16700
RMSE_XY: 3.30000
IMAGE_SOURCE: BLACK AND WHITE FILM
SOURCE_IMAGE_ID: NAPP 8419 14
SOURCE_IMAGE_DATE: 1995 8 21
SOURCE_DEM_DATE: 1997 3 13
AGENCY: WESTERN MAPPING CENTER (WMC)
PRODUCER: USFS
PRODUCTION_SYSTEM: DV2.6.3 10/9OV2.4 5/95
COMPRESSION: UNDEFINED
STANDARD_VERSION: 1996 12
METADATA_DATE: 1997 11 2
DATA_FILE_SIZE: 41789664
BYTE_COUNT: 5472
