FILENAME: O4711513.SWS.56551.tif
QUADRANGLE_NAME: SEVEN POINT MOUNTAIN
QUADRANT: SW
WEST_LONGITUDE: -115 30 0.00000
EAST_LONGITUDE: -115 26 15.00000
NORTH_LATITUDE: 47 48 45.00000
SOUTH_LATITUDE: 47 45 0.00000
PRODUCTION_DATE: 1997 3 26
RASTER_ORDER: LEFT_RIGHT/TOP_BOTTOM
BAND_ORGANIZATION: SINGLE FILE
BAND_CONTENT: BLACK&WHITE
BAND_CONTENT: UNDEFINED
BAND_CONTENT: UNDEFINED
BITS_PER_PIXEL: 8
SAMPLES_AND_LINES: 5496 7651
HORIZONTAL_DATUM: NAD83
HORIZONTAL_COORDINATE_SYSTEM: UTM
COORDINATE_ZONE: 11
HORIZONTAL_UNITS: METERS
HORIZONTAL_RESOLUTION: 1.00000
SECONDARY_HORIZONTAL_DATUM: NAD27
XY_ORIGIN: 611921.00000 5296944.00000
SECONDARY_XY_ORIGIN: 611999.49500 5296733.79900
NATION: US
STATE: MT
NW_QUAD_CORNER_XY: 612296.85900 5296550.01000
NE_QUAD_CORNER_XY: 616975.78400 5296642.68500
SE_QUAD_CORNERY_XY: 617116.10500 5289696.58300
SW_QUAD_CORNER_XY: 612431.56400 5289603.88800
SECONDARY_NW_QUAD_XY: 612300.37900 5296331.21200
SECONDARY_NE_QUAD_XY: 616979.45100 5296423.89000
SECONDARY_SE_QUAD_XY: 617119.77200 5289477.80500
SECONDARY_SW_QUAD_XY: 612435.08400 5289385.10800
RMSE_XY: 1.30000
IMAGE_SOURCE: BLACK AND WHITE FILM
SOURCE_IMAGE_ID: NAPP 8422 103
SOURCE_IMAGE_DATE: 1995 7 28
SOURCE_DEM_DATE: 1997 3 26
AGENCY: WESTERN MAPPING CENTER (WMC)
PRODUCER: USFS
PRODUCTION_SYSTEM: DV2.6.3 10/9OV2.4 5/95
COMPRESSION: UNDEFINED
STANDARD_VERSION: 1996 12
METADATA_DATE: 1997 11 2
DATA_FILE_SIZE: 42055392
BYTE_COUNT: 5496
