FILENAME: O4711514.SES.56488.tif
QUADRANGLE_NAME: VERMILION PEAK
QUADRANT: SE
WEST_LONGITUDE: -115 18 45.00000
EAST_LONGITUDE: -115 15 0.00000
NORTH_LATITUDE: 47 48 45.00000
SOUTH_LATITUDE: 47 45 0.00000
PRODUCTION_DATE: 1997 3 15
RASTER_ORDER: LEFT_RIGHT/TOP_BOTTOM
BAND_ORGANIZATION: SINGLE FILE
BAND_CONTENT: BLACK&WHITE
BAND_CONTENT: UNDEFINED
BAND_CONTENT: UNDEFINED
BITS_PER_PIXEL: 8
SAMPLES_AND_LINES: 5513 7662
HORIZONTAL_DATUM: NAD83
HORIZONTAL_COORDINATE_SYSTEM: UTM
COORDINATE_ZONE: 11
HORIZONTAL_UNITS: METERS
HORIZONTAL_RESOLUTION: 1.00000
SECONDARY_HORIZONTAL_DATUM: NAD27
XY_ORIGIN: 625958.00000 5297248.00000
SECONDARY_XY_ORIGIN: 626036.18000 5297037.74000
NATION: US
STATE: MT
NW_QUAD_CORNER_XY: 626333.66000 5296839.35000
NE_QUAD_CORNER_XY: 631012.55000 5296943.38000
SE_QUAD_CORNERY_XY: 631169.71000 5289997.34000
SW_QUAD_CORNER_XY: 626485.21000 5289893.29000
SECONDARY_NW_QUAD_XY: 626337.62000 5296620.56000
SECONDARY_NE_QUAD_XY: 631016.65000 5296724.59000
SECONDARY_SE_QUAD_XY: 631173.82000 5289778.57000
SECONDARY_SW_QUAD_XY: 626489.17000 5289674.52000
RMSE_XY: 1.60000
IMAGE_SOURCE: BLACK AND WHITE FILM
SOURCE_IMAGE_ID: NAPP 8418 79
SOURCE_IMAGE_DATE: 1995 8 5
SOURCE_IMAGE_ID: NAPP 8418 81
SOURCE_IMAGE_DATE: 1995 8 5
SOURCE_DEM_DATE: 1997 3 15
AGENCY: WESTERN MAPPING CENTER (WMC)
PRODUCER: USFS
PRODUCTION_SYSTEM: DV2.6.3 10/9OV2.4 5/95
COMPRESSION: UNDEFINED
STANDARD_VERSION: 1996 12
METADATA_DATE: 1997 11 2
DATA_FILE_SIZE: 42246119
BYTE_COUNT: 5513
