FILENAME: O4711515.SES.56448.tif
QUADRANGLE_NAME: FISHTRAP LAKE
QUADRANT: SE
WEST_LONGITUDE: -115 11 15.00000
EAST_LONGITUDE: -115 7 30.00000
NORTH_LATITUDE: 47 48 45.00000
SOUTH_LATITUDE: 47 45 0.00000
PRODUCTION_DATE: 1997 3 19
RASTER_ORDER: LEFT_RIGHT/TOP_BOTTOM
BAND_ORGANIZATION: SINGLE FILE
BAND_CONTENT: BLACK&WHITE
BAND_CONTENT: UNDEFINED
BAND_CONTENT: UNDEFINED
BITS_PER_PIXEL: 8
SAMPLES_AND_LINES: 5524 7669
HORIZONTAL_DATUM: NAD83
HORIZONTAL_COORDINATE_SYSTEM: UTM
COORDINATE_ZONE: 11
HORIZONTAL_UNITS: METERS
HORIZONTAL_RESOLUTION: 1.00000
SECONDARY_HORIZONTAL_DATUM: NAD27
XY_ORIGIN: 635317.00000 5297464.00000
SECONDARY_XY_ORIGIN: 635394.00000 5297254.00000
NATION: US
STATE: MT
NW_QUAD_CORNER_XY: 635691.34600 5297051.23000
NE_QUAD_CORNER_XY: 640370.19900 5297162.82900
SE_QUAD_CORNERY_XY: 640538.60000 5290216.83600
SW_QUAD_CORNER_XY: 635854.13000 5290105.21400
SECONDARY_NW_QUAD_XY: 635695.60000 5296832.44800
SECONDARY_NE_QUAD_XY: 640374.60000 5296944.05000
SECONDARY_SE_QUAD_XY: 640543.00000 5289998.07500
SECONDARY_SW_QUAD_XY: 635858.38400 5289886.44900
RMSE_XY: 2.70000
IMAGE_SOURCE: BLACK AND WHITE FILM
SOURCE_IMAGE_ID: NAPP 8420 178
SOURCE_IMAGE_DATE: 1995 8 20
SOURCE_DEM_DATE: 1997 3 19
AGENCY: WESTERN MAPPING CENTER (WMC)
PRODUCER: USFS
PRODUCTION_SYSTEM: DV2.6.3 10/9OV2.4 5/95
COMPRESSION: UNDEFINED
STANDARD_VERSION: 1996 12
METADATA_DATE: 1997 11 3
DATA_FILE_SIZE: 42369080
BYTE_COUNT: 5524
