FILENAME: O4711515.NWS.56469.tif
QUADRANGLE_NAME: FISHTRAP LAKE
QUADRANT: NW
WEST_LONGITUDE: -115 15 0.00000
EAST_LONGITUDE: -115 11 15.00000
NORTH_LATITUDE: 47 52 30.00000
SOUTH_LATITUDE: 47 48 45.00000
PRODUCTION_DATE: 1997 3 19
RASTER_ORDER: LEFT_RIGHT/TOP_BOTTOM
BAND_ORGANIZATION: SINGLE FILE
BAND_CONTENT: BLACK&WHITE
BAND_CONTENT: UNDEFINED
BAND_CONTENT: UNDEFINED
BITS_PER_PIXEL: 8
SAMPLES_AND_LINES: 5512 7665
HORIZONTAL_DATUM: NAD83
HORIZONTAL_COORDINATE_SYSTEM: UTM
COORDINATE_ZONE: 11
HORIZONTAL_UNITS: METERS
HORIZONTAL_RESOLUTION: 1.00000
SECONDARY_HORIZONTAL_DATUM: NAD27
XY_ORIGIN: 630480.00000 5304298.00000
SECONDARY_XY_ORIGIN: 630558.18800 5304087.51600
NATION: US
STATE: MT
NW_QUAD_CORNER_XY: 630855.15300 5303889.52500
NE_QUAD_CORNER_XY: 635528.40000 5303997.31500
SE_QUAD_CORNERY_XY: 635691.34600 5297051.23000
SW_QUAD_CORNER_XY: 631012.47800 5296943.41700
SECONDARY_NW_QUAD_XY: 630859.26100 5303670.72200
SECONDARY_NE_QUAD_XY: 635532.65400 5303778.51600
SECONDARY_SE_QUAD_XY: 635695.60000 5296832.44800
SECONDARY_SW_QUAD_XY: 631016.58500 5296724.63100
RMSE_XY: 2.80000
IMAGE_SOURCE: BLACK AND WHITE FILM
SOURCE_IMAGE_ID: NAPP 8420 231
SOURCE_IMAGE_DATE: 1995 8 20
SOURCE_DEM_DATE: 1997 3 19
AGENCY: WESTERN MAPPING CENTER (WMC)
PRODUCER: USFS
PRODUCTION_SYSTEM: DV2.6.3 10/9OV2.4 5/95
COMPRESSION: UNDEFINED
STANDARD_VERSION: 1996 12
METADATA_DATE: 1997 11 3
DATA_FILE_SIZE: 42254992
BYTE_COUNT: 5512
