FILENAME: O4711521.NWS.56550.tif
QUADRANGLE_NAME: BELKNAP
QUADRANT: NW
WEST_LONGITUDE: -115 30 0.00000
EAST_LONGITUDE: -115 26 15.00000
NORTH_LATITUDE: 47 45 0.00000
SOUTH_LATITUDE: 47 41 15.00000
PRODUCTION_DATE: 1997 3 26
RASTER_ORDER: LEFT_RIGHT/TOP_BOTTOM
BAND_ORGANIZATION: SINGLE FILE
BAND_CONTENT: BLACK&WHITE
BAND_CONTENT: UNDEFINED
BAND_CONTENT: UNDEFINED
BITS_PER_PIXEL: 8
SAMPLES_AND_LINES: 5500 7651
HORIZONTAL_DATUM: NAD83
HORIZONTAL_COORDINATE_SYSTEM: UTM
COORDINATE_ZONE: 11
HORIZONTAL_UNITS: METERS
HORIZONTAL_RESOLUTION: 1.00000
SECONDARY_HORIZONTAL_DATUM: NAD27
XY_ORIGIN: 612056.00000 5289998.00000
SECONDARY_XY_ORIGIN: 612134.34100 5289788.00300
NATION: US
STATE: MT
NW_QUAD_CORNER_XY: 612431.56400 5289603.88800
NE_QUAD_CORNER_XY: 617116.10500 5289696.58300
SE_QUAD_CORNERY_XY: 617256.28500 5282750.55100
SW_QUAD_CORNER_XY: 612566.13500 5282657.83700
SECONDARY_NW_QUAD_XY: 612435.08400 5289385.10800
SECONDARY_NE_QUAD_XY: 617119.77200 5289477.80500
SECONDARY_SE_QUAD_XY: 617259.95100 5282531.79200
SECONDARY_SW_QUAD_XY: 612569.65400 5282439.07600
RMSE_XY: 2.10000
IMAGE_SOURCE: BLACK AND WHITE FILM
SOURCE_IMAGE_ID: NAPP 8422 105
SOURCE_IMAGE_DATE: 1995 7 28
SOURCE_DEM_DATE: 1997 3 26
AGENCY: WESTERN MAPPING CENTER (WMC)
PRODUCER: USFS
PRODUCTION_SYSTEM: DV2.6.3 10/9OV2.4 5/95
COMPRESSION: UNDEFINED
STANDARD_VERSION: 1996 12
METADATA_DATE: 1997 11 2
DATA_FILE_SIZE: 42086000
BYTE_COUNT: 5500
