FILENAME: O4711401.SWS.49175.tif
QUADRANGLE_NAME: SHRODER CREEK
QUADRANT: SW
WEST_LONGITUDE: -115 0 0.00000
EAST_LONGITUDE: -114 56 15.00000
NORTH_LATITUDE: 47 56 15.00000
SOUTH_LATITUDE: 47 52 30.00000
PRODUCTION_DATE: 1994 10 13
RASTER_ORDER: LEFT_RIGHT/TOP_BOTTOM
BAND_ORGANIZATION: SINGLE FILE
BAND_CONTENT: BLACK&WHITE
BAND_CONTENT: UNDEFINED
BAND_CONTENT: UNDEFINED
BITS_PER_PIXEL: 8
SAMPLES_AND_LINES: 5529 7680
HORIZONTAL_DATUM: NAD83
HORIZONTAL_COORDINATE_SYSTEM: UTM
COORDINATE_ZONE: 11
HORIZONTAL_UNITS: METERS
HORIZONTAL_RESOLUTION: 1.00000
SECONDARY_HORIZONTAL_DATUM: NAD27
XY_ORIGIN: 648994.00000 5311713.00000
SECONDARY_XY_ORIGIN: 649071.56500 5311502.18700
NATION: US
STATE: MT
NW_QUAD_CORNER_XY: 649368.04700 5311289.46900
NE_QUAD_CORNER_XY: 654035.59800 5311412.37100
SE_QUAD_CORNERY_XY: 654221.22000 5304466.32100
SW_QUAD_CORNER_XY: 649548.04100 5304343.39200
SECONDARY_NW_QUAD_XY: 649372.74200 5311070.66500
SECONDARY_NE_QUAD_XY: 654040.43900 5311193.57100
SECONDARY_SE_QUAD_XY: 654226.06100 5304247.53700
SECONDARY_SW_QUAD_XY: 649552.73500 5304124.60400
RMSE_XY: 2.10000
IMAGE_SOURCE: BLACK AND WHITE FILM
SOURCE_IMAGE_ID: NAPP 2642 030
SOURCE_IMAGE_DATE: 1990 7 17
SOURCE_DEM_DATE: 1994 10 13
AGENCY: WESTERN MAPPING CENTER (WMC)
PRODUCER: Science Applications International
PRODUCTION_SYSTEM: GIS/MAGIC
COMPRESSION: UNDEFINED
STANDARD_VERSION: 1996 12
METADATA_DATE: 1997 7 15
DATA_FILE_SIZE: 42468249
BYTE_COUNT: 5529
