FILENAME: O4711401.NES.49172.tif
QUADRANGLE_NAME: SHRODER CREEK
QUADRANT: NE
WEST_LONGITUDE: -114 56 15.00000
EAST_LONGITUDE: -114 52 30.00000
NORTH_LATITUDE: 48 0 0.00000
SOUTH_LATITUDE: 47 56 15.00000
PRODUCTION_DATE: 1994 10 13
RASTER_ORDER: LEFT_RIGHT/TOP_BOTTOM
BAND_ORGANIZATION: SINGLE FILE
BAND_CONTENT: BLACK&WHITE
BAND_CONTENT: UNDEFINED
BAND_CONTENT: UNDEFINED
BITS_PER_PIXEL: 8
SAMPLES_AND_LINES: 5529 7684
HORIZONTAL_DATUM: NAD83
HORIZONTAL_COORDINATE_SYSTEM: UTM
COORDINATE_ZONE: 11
HORIZONTAL_UNITS: METERS
HORIZONTAL_RESOLUTION: 1.00000
SECONDARY_HORIZONTAL_DATUM: NAD27
XY_ORIGIN: 653476.00000 5318786.00000
SECONDARY_XY_ORIGIN: 653553.37600 5318574.98400
NATION: US
STATE: MT
NW_QUAD_CORNER_XY: 653849.79100 5318358.48800
NE_QUAD_CORNER_XY: 658511.68700 5318485.14600
SE_QUAD_CORNERY_XY: 658703.12900 5311539.05800
SW_QUAD_CORNER_XY: 654035.59800 5311412.37100
SECONDARY_NW_QUAD_XY: 653854.63300 5318139.67200
SECONDARY_NE_QUAD_XY: 658516.67600 5318266.33400
SECONDARY_SE_QUAD_XY: 658708.11700 5311320.26100
SECONDARY_SW_QUAD_XY: 654040.43900 5311193.57100
RMSE_XY: 0.80000
IMAGE_SOURCE: BLACK AND WHITE FILM
SOURCE_IMAGE_ID: NAPP 2644 113
SOURCE_IMAGE_DATE: 1990 8 6
SOURCE_DEM_DATE: 1994 10 13
AGENCY: WESTERN MAPPING CENTER (WMC)
PRODUCER: Science Applications International
PRODUCTION_SYSTEM: GIS/MAGIC
COMPRESSION: UNDEFINED
STANDARD_VERSION: 1996 12
METADATA_DATE: 1997 7 15
DATA_FILE_SIZE: 42490365
BYTE_COUNT: 5529
