FILENAME: O4711402.SWS.49038.tif
QUADRANGLE_NAME: MURR PEAK
QUADRANT: SW
WEST_LONGITUDE: -114 52 30.00000
EAST_LONGITUDE: -114 48 45.00000
NORTH_LATITUDE: 47 56 15.00000
SOUTH_LATITUDE: 47 52 30.00000
PRODUCTION_DATE: 1994 11 4
RASTER_ORDER: LEFT_RIGHT/TOP_BOTTOM
BAND_ORGANIZATION: SINGLE FILE
BAND_CONTENT: BLACK&WHITE
BAND_CONTENT: UNDEFINED
BAND_CONTENT: UNDEFINED
BITS_PER_PIXEL: 8
SAMPLES_AND_LINES: 5540 7688
HORIZONTAL_DATUM: NAD83
HORIZONTAL_COORDINATE_SYSTEM: UTM
COORDINATE_ZONE: 11
HORIZONTAL_UNITS: METERS
HORIZONTAL_RESOLUTION: 1.00000
SECONDARY_HORIZONTAL_DATUM: NAD27
XY_ORIGIN: 658329.00000 5311970.00000
SECONDARY_XY_ORIGIN: 658406.28700 5311759.25800
NATION: US
STATE: MT
NW_QUAD_CORNER_XY: 658703.12900 5311539.05800
NE_QUAD_CORNER_XY: 663370.64100 5311669.52900
SE_QUAD_CORNERY_XY: 663567.52300 5304723.53500
SW_QUAD_CORNER_XY: 658894.38100 5304593.03600
SECONDARY_NW_QUAD_XY: 658708.11700 5311320.26100
SECONDARY_NE_QUAD_XY: 663375.77600 5311450.73600
SECONDARY_SE_QUAD_XY: 663572.65700 5304504.75900
SECONDARY_SW_QUAD_XY: 658899.36800 5304374.25500
RMSE_XY: 2.50000
IMAGE_SOURCE: BLACK AND WHITE FILM
SOURCE_IMAGE_ID: NAPP 2644 042
SOURCE_IMAGE_DATE: 1990 8 6
SOURCE_DEM_DATE: 1994 11 4
AGENCY: WESTERN MAPPING CENTER (WMC)
PRODUCER: Science Applications International
PRODUCTION_SYSTEM: GIS/MAGIC
COMPRESSION: UNDEFINED
STANDARD_VERSION: 1996 12
METADATA_DATE: 1997 7 16
DATA_FILE_SIZE: 42597060
BYTE_COUNT: 5540
