FILENAME: O4711402.SES.49037.tif
QUADRANGLE_NAME: MURR PEAK
QUADRANT: SE
WEST_LONGITUDE: -114 48 45.00000
EAST_LONGITUDE: -114 45 0.00000
NORTH_LATITUDE: 47 56 15.00000
SOUTH_LATITUDE: 47 52 30.00000
PRODUCTION_DATE: 1994 11 4
RASTER_ORDER: LEFT_RIGHT/TOP_BOTTOM
BAND_ORGANIZATION: SINGLE FILE
BAND_CONTENT: BLACK&WHITE
BAND_CONTENT: UNDEFINED
BAND_CONTENT: UNDEFINED
BITS_PER_PIXEL: 8
SAMPLES_AND_LINES: 5545 7691
HORIZONTAL_DATUM: NAD83
HORIZONTAL_COORDINATE_SYSTEM: UTM
COORDINATE_ZONE: 11
HORIZONTAL_UNITS: METERS
HORIZONTAL_RESOLUTION: 1.00000
SECONDARY_HORIZONTAL_DATUM: NAD27
XY_ORIGIN: 662997.00000 5312104.00000
SECONDARY_XY_ORIGIN: 663074.14700 5311893.29300
NATION: US
STATE: MT
NW_QUAD_CORNER_XY: 663370.64100 5311669.52900
NE_QUAD_CORNER_XY: 668038.13400 5311803.78500
SE_QUAD_CORNERY_XY: 668240.64500 5304857.82100
SW_QUAD_CORNER_XY: 663567.52300 5304723.53500
SECONDARY_NW_QUAD_XY: 663375.77600 5311450.73600
SECONDARY_NE_QUAD_XY: 668043.41600 5311584.99700
SECONDARY_SE_QUAD_XY: 668245.92600 5304639.04900
SECONDARY_SW_QUAD_XY: 663572.65700 5304504.75900
RMSE_XY: 2.40000
IMAGE_SOURCE: BLACK AND WHITE FILM
SOURCE_IMAGE_ID: NAPP 2642 077
SOURCE_IMAGE_DATE: 1990 7 17
SOURCE_DEM_DATE: 1994 11 4
AGENCY: WESTERN MAPPING CENTER (WMC)
PRODUCER: Science Applications International
PRODUCTION_SYSTEM: GIS/MAGIC
COMPRESSION: UNDEFINED
STANDARD_VERSION: 1996 12
METADATA_DATE: 1997 7 16
DATA_FILE_SIZE: 42652140
BYTE_COUNT: 5545
