FILENAME: O4711402.NES.49035.tif
QUADRANGLE_NAME: MURR PEAK
QUADRANT: NE
WEST_LONGITUDE: -114 48 45.00000
EAST_LONGITUDE: -114 45 0.00000
NORTH_LATITUDE: 48 0 0.00000
SOUTH_LATITUDE: 47 56 15.00000
PRODUCTION_DATE: 1994 11 4
RASTER_ORDER: LEFT_RIGHT/TOP_BOTTOM
BAND_ORGANIZATION: SINGLE FILE
BAND_CONTENT: BLACK&WHITE
BAND_CONTENT: UNDEFINED
BAND_CONTENT: UNDEFINED
BITS_PER_PIXEL: 8
SAMPLES_AND_LINES: 5540 7691
HORIZONTAL_DATUM: NAD83
HORIZONTAL_COORDINATE_SYSTEM: UTM
COORDINATE_ZONE: 11
HORIZONTAL_UNITS: METERS
HORIZONTAL_RESOLUTION: 1.00000
SECONDARY_HORIZONTAL_DATUM: NAD27
XY_ORIGIN: 662800.00000 5319050.00000
SECONDARY_XY_ORIGIN: 662877.05100 5318839.04400
NATION: US
STATE: MT
NW_QUAD_CORNER_XY: 663173.56400 5318615.58800
NE_QUAD_CORNER_XY: 667835.42100 5318749.81300
SE_QUAD_CORNERY_XY: 668038.13400 5311803.78500
SW_QUAD_CORNER_XY: 663370.64100 5311669.52900
SECONDARY_NW_QUAD_XY: 663178.70000 5318396.78000
SECONDARY_NE_QUAD_XY: 667840.70300 5318531.01000
SECONDARY_SE_QUAD_XY: 668043.41600 5311584.99700
SECONDARY_SW_QUAD_XY: 663375.77600 5311450.73600
RMSE_XY: 1.40000
IMAGE_SOURCE: BLACK AND WHITE FILM
SOURCE_IMAGE_ID: NAPP 2642 075
SOURCE_IMAGE_DATE: 1990 7 17
SOURCE_DEM_DATE: 1994 11 4
AGENCY: WESTERN MAPPING CENTER (WMC)
PRODUCER: Science Applications International
PRODUCTION_SYSTEM: GIS/MAGIC
COMPRESSION: UNDEFINED
STANDARD_VERSION: 1996 12
METADATA_DATE: 1997 7 16
DATA_FILE_SIZE: 42613680
BYTE_COUNT: 5540
