FILENAME: O4711403.NWS.48853.tif
QUADRANGLE_NAME: HUBBART RESERVOIR
QUADRANT: NW
WEST_LONGITUDE: -114 45 0.00000
EAST_LONGITUDE: -114 41 15.00000
NORTH_LATITUDE: 48 0 0.00000
SOUTH_LATITUDE: 47 56 15.00000
PRODUCTION_DATE: 1994 11 4
RASTER_ORDER: LEFT_RIGHT/TOP_BOTTOM
BAND_ORGANIZATION: SINGLE FILE
BAND_CONTENT: BLACK&WHITE
BAND_CONTENT: UNDEFINED
BAND_CONTENT: UNDEFINED
BITS_PER_PIXEL: 8
SAMPLES_AND_LINES: 5545 7695
HORIZONTAL_DATUM: NAD83
HORIZONTAL_COORDINATE_SYSTEM: UTM
COORDINATE_ZONE: 11
HORIZONTAL_UNITS: METERS
HORIZONTAL_RESOLUTION: 1.00000
SECONDARY_HORIZONTAL_DATUM: NAD27
XY_ORIGIN: 667462.00000 5319188.00000
SECONDARY_XY_ORIGIN: 667538.88200 5318977.07100
NATION: US
STATE: MT
NW_QUAD_CORNER_XY: 667835.42100 5318749.81300
NE_QUAD_CORNER_XY: 672497.25700 5318887.82400
SE_QUAD_CORNERY_XY: 672705.60600 5311941.82600
SW_QUAD_CORNER_XY: 668038.13400 5311803.78500
SECONDARY_NW_QUAD_XY: 667840.70300 5318531.01000
SECONDARY_NE_QUAD_XY: 672502.68600 5318669.02500
SECONDARY_SE_QUAD_XY: 672711.03400 5311723.04200
SECONDARY_SW_QUAD_XY: 668043.41600 5311584.99700
RMSE_XY: 3.10000
IMAGE_SOURCE: BLACK AND WHITE FILM
SOURCE_IMAGE_ID: NAPP 2648 019
SOURCE_IMAGE_DATE: 1990 8 16
SOURCE_DEM_DATE: 1994 11 4
AGENCY: WESTERN MAPPING CENTER (WMC)
PRODUCER: Science Applications International
PRODUCTION_SYSTEM: GIS/MAGIC
COMPRESSION: UNDEFINED
STANDARD_VERSION: 1996 12
METADATA_DATE: 1997 7 16
DATA_FILE_SIZE: 42674320
BYTE_COUNT: 5545
