FILENAME: O4711408.NWS.48080.tif
QUADRANGLE_NAME: WOODS BAY
QUADRANT: NW
WEST_LONGITUDE: -114 7 30.00000
EAST_LONGITUDE: -114 3 45.00000
NORTH_LATITUDE: 48 0 0.00000
SOUTH_LATITUDE: 47 56 15.00000
PRODUCTION_DATE: 1994 11 4
RASTER_ORDER: LEFT_RIGHT/TOP_BOTTOM
BAND_ORGANIZATION: SINGLE FILE
BAND_CONTENT: BLACK&WHITE
BAND_CONTENT: UNDEFINED
BAND_CONTENT: UNDEFINED
BITS_PER_PIXEL: 8
SAMPLES_AND_LINES: 5600 7733
HORIZONTAL_DATUM: NAD83
HORIZONTAL_COORDINATE_SYSTEM: UTM
COORDINATE_ZONE: 11
HORIZONTAL_UNITS: METERS
HORIZONTAL_RESOLUTION: 1.00000
SECONDARY_HORIZONTAL_DATUM: NAD27
XY_ORIGIN: 714081.00000 5320777.00000
SECONDARY_XY_ORIGIN: 714158.28700 5320566.43700
NATION: US
STATE: MT
NW_QUAD_CORNER_XY: 714452.75100 5320300.26000
NE_QUAD_CORNER_XY: 719114.34700 5320476.13100
SE_QUAD_CORNERY_XY: 719379.08100 5313530.49200
SW_QUAD_CORNER_XY: 714711.84400 5313354.58200
SECONDARY_NW_QUAD_XY: 714459.50000 5320081.50600
SECONDARY_NE_QUAD_XY: 719121.24300 5320257.38200
SECONDARY_SE_QUAD_XY: 719385.97700 5313311.75800
SECONDARY_SW_QUAD_XY: 714718.59300 5313135.84200
RMSE_XY: 3.80000
IMAGE_SOURCE: BLACK AND WHITE FILM
SOURCE_IMAGE_ID: NAPP 2641 098
SOURCE_IMAGE_DATE: 1990 7 1
SOURCE_DEM_DATE: 1994 11 4
AGENCY: WESTERN MAPPING CENTER (WMC)
PRODUCER: Science Applications International
PRODUCTION_SYSTEM: GIS/MAGIC
COMPRESSION: UNDEFINED
STANDARD_VERSION: 1996 12
METADATA_DATE: 1997 6 19
DATA_FILE_SIZE: 43310400
BYTE_COUNT: 5600
