Note: This header file was extracted from a digital orthophoto image that covers a full 7.5-minute quadrangle in Universal Transverse Mercator Coordinates. The State Library converted that image to Montana State Plane Coordinates, units meters, and extracted portions of the image that cover a 3.75-minute quarter-quadrangle. The coordinates given in this file do not apply to the State Plane Coordinate images.
BEGIN_USGS_DOQ_HEADER *
QUADRANGLE_NAME "COOK MOUNTAIN" *
QUADRANT *
WEST_LONGITUDE -115 0 0.000 *
EAST_LONGITUDE -114 52 30.000 *
NORTH_LATITUDE 47 52 30.000 *
SOUTH_LATITUDE 47 45 0.000 *
PRODUCTION_DATE 2004 9 14 *
RASTER_ORDER LEFT_RIGHT/TOP_BOTTOM *
BAND_ORGANIZATION "SINGLE FILE" *
BAND_CONTENT BLACK&WHITE *
BITS_PER_PIXEL 8 *
SAMPLES_AND_LINES 10402 14746 *
HORIZONTAL_DATUM NAD83 *
HORIZONTAL_COORDINATE_SYSTEM UTM *
COORDINATE_ZONE 11 *
HORIZONTAL_UNITS METERS *
HORIZONTAL_RESOLUTION 1.0 *
SECONDARY_HORIZONTAL_DATUM NAD27 *
XY_ORIGIN 649174.810 5304897.350 *
SECONDARY_XY_ORIGIN 649252.415 5304686.774 *
NATION US *
STATE MT *
NW_QUAD_CORNER_XY 649548.041 5304343.393 *
NE_QUAD_CORNER_XY 658894.381 5304593.036 *
SE_QUAD_CORNER_XY 659276.312 5290701.188 *
SW_QUAD_CORNER_XY 649907.490 5290451.439 *
SECONDARY_NW_QUAD_XY 649552.740 5304124.606 *
SECONDARY_NE_QUAD_XY 658899.372 5304374.256 *
SECONDARY_SE_QUAD_XY 659281.302 5290482.443 *
SECONDARY_SW_QUAD_XY 649912.187 5290232.686 *
RMSE_XY 1.07 *
IMAGE_SOURCE "BLACK AND WHITE FILM" *
SOURCE_IMAGE_ID "NAPP 12669 124" *
SOURCE_IMAGE_DATE 2003 7 17 *
SOURCE_IMAGE_ID "NAPP 12669 122" *
SOURCE_IMAGE_DATE 2003 7 17 *
SOURCE_IMAGE_ID "NAPP 12664 121" *
SOURCE_IMAGE_DATE 2003 6 18 *
SOURCE_IMAGE_ID "NAPP 12664 123" *
SOURCE_IMAGE_DATE 2003 6 18 *
SOURCE_IMAGE_ID "NAPP 12669 125" *
SOURCE_IMAGE_DATE 2003 7 17 *
SOURCE_IMAGE_ID "NAPP 12669 123" *
SOURCE_IMAGE_DATE 2003 7 17 *
SOURCE_IMAGE_ID "NAPP 12669 121" *
SOURCE_IMAGE_DATE 2003 7 17 *
SOURCE_IMAGE_ID "NAPP 12664 124" *
SOURCE_IMAGE_DATE 2003 6 18 *
SOURCE_IMAGE_ID "NAPP 12664 122" *
SOURCE_IMAGE_DATE 2003 6 18 *
SOURCE_IMAGE_ID "NAPP 12664 120" *
SOURCE_IMAGE_DATE 2003 6 18 *
SOURCE_IMAGE_ID "NAPP 12660 44" *
SOURCE_IMAGE_DATE 2002 9 22 *
SOURCE_IMAGE_ID "NAPP 12660 43" *
SOURCE_IMAGE_DATE 2002 9 22 *
SOURCE_IMAGE_ID "NAPP 12660 42" *
SOURCE_IMAGE_DATE 2002 9 22 *
SOURCE_IMAGE_ID "NAPP 12660 41" *
SOURCE_IMAGE_DATE 2002 9 22 *
SOURCE_IMAGE_ID "NAPP 12660 40" *
SOURCE_IMAGE_DATE 2002 9 22 *
SOURCE_IMAGE_ID "NAPP 12669 42" *
SOURCE_IMAGE_DATE 2003 7 17 *
SOURCE_IMAGE_ID "NAPP 12669 43" *
SOURCE_IMAGE_DATE 2003 7 17 *
SOURCE_IMAGE_ID "NAPP 12669 44" *
SOURCE_IMAGE_DATE 2003 7 17 *
SOURCE_IMAGE_ID "NAPP 12669 45" *
SOURCE_IMAGE_DATE 2003 7 17 *
SOURCE_IMAGE_ID "NAPP 12669 46" *
SOURCE_IMAGE_DATE 2003 7 17 *
SOURCE_DEM_DATE 2004 1 1 *
AGENCY "WESTERN MAPPING CENTER (WMC)" *
PRODUCER "USDA FS GEOSPATIAL SERVICE AND TECHNOLOGY CENTER" *
PRODUCTION_SYSTEM "ORBIT OR_RECTIFY V.5.2" *
STANDARD_VERSION 1996 12 *
METADATA_DATE 2004 10 1 *
DATA_FILE_SIZE 153398294 *
BYTE_COUNT 10402 * *
