FILENAME: O4711414.SES.48334.tif
QUADRANGLE_NAME: ELMO
QUADRANT: SE
WEST_LONGITUDE: -114 18 45.00000
EAST_LONGITUDE: -114 15 0.00000
NORTH_LATITUDE: 47 48 45.00000
SOUTH_LATITUDE: 47 45 0.00000
PRODUCTION_DATE: 1995 10 25
RASTER_ORDER: LEFT_RIGHT/TOP_BOTTOM
BAND_ORGANIZATION: SINGLE FILE
BAND_CONTENT: BLACK&WHITE
BAND_CONTENT: UNDEFINED
BAND_CONTENT: UNDEFINED
BITS_PER_PIXEL: 8
SAMPLES_AND_LINES: 5640 7740
HORIZONTAL_DATUM: NAD83
HORIZONTAL_COORDINATE_SYSTEM: UTM
COORDINATE_ZONE: 11
HORIZONTAL_UNITS: METERS
HORIZONTAL_RESOLUTION: 1.00000
SECONDARY_HORIZONTAL_DATUM: NAD27
XY_ORIGIN: 700800.00000 5299440.00000
SECONDARY_XY_ORIGIN: 700877.74600 5299230.27200
NATION: US
STATE: MT
NW_QUAD_CORNER_XY: 701193.60600 5298958.17200
NE_QUAD_CORNER_XY: 705872.18100 5299122.79000
SE_QUAD_CORNERY_XY: 706119.25600 5292177.21000
SW_QUAD_CORNER_XY: 701435.05800 5292012.55800
SECONDARY_NW_QUAD_XY: 701199.91400 5298739.45000
SECONDARY_NE_QUAD_XY: 705878.63600 5298904.07300
SECONDARY_SE_QUAD_XY: 706125.71000 5291958.51100
SECONDARY_SW_QUAD_XY: 701441.36500 5291793.85300
RMSE_XY: 3.90000
IMAGE_SOURCE: BLACK AND WHITE FILM
SOURCE_IMAGE_ID: NAPP 2640 248
SOURCE_IMAGE_DATE: 1990 7 1
SOURCE_DEM_DATE: 1995 10 25
AGENCY: WESTERN MAPPING CENTER (WMC)
PRODUCER: Analytical Surveys
PRODUCTION_SYSTEM: ORBIT OR_RECTIFY V.5.2
COMPRESSION: UNDEFINED
STANDARD_VERSION: 1996 12
METADATA_DATE: 1997 7 4
DATA_FILE_SIZE: 43659240
BYTE_COUNT: 5640
