FILENAME: O4711414.NWS.48333.tif
QUADRANGLE_NAME: ELMO
QUADRANT: NW
WEST_LONGITUDE: -114 22 30.00000
EAST_LONGITUDE: -114 18 45.00000
NORTH_LATITUDE: 47 52 30.00000
SOUTH_LATITUDE: 47 48 45.00000
PRODUCTION_DATE: 1995 10 25
RASTER_ORDER: LEFT_RIGHT/TOP_BOTTOM
BAND_ORGANIZATION: SINGLE FILE
BAND_CONTENT: BLACK&WHITE
BAND_CONTENT: UNDEFINED
BAND_CONTENT: UNDEFINED
BITS_PER_PIXEL: 8
SAMPLES_AND_LINES: 5640 7740
HORIZONTAL_DATUM: NAD83
HORIZONTAL_COORDINATE_SYSTEM: UTM
COORDINATE_ZONE: 11
HORIZONTAL_UNITS: METERS
HORIZONTAL_RESOLUTION: 1.00000
SECONDARY_HORIZONTAL_DATUM: NAD27
XY_ORIGIN: 695880.00000 5306220.00000
SECONDARY_XY_ORIGIN: 695957.67500 5306009.86900
NATION: US
STATE: MT
NW_QUAD_CORNER_XY: 696278.94200 5305743.05200
NE_QUAD_CORNER_XY: 700951.91300 5305903.84700
SE_QUAD_CORNERY_XY: 701193.60600 5298958.17200
SW_QUAD_CORNER_XY: 696515.00700 5298797.34300
SECONDARY_NW_QUAD_XY: 696285.10300 5305524.30800
SECONDARY_NE_QUAD_XY: 700958.22100 5305685.10700
SECONDARY_SE_QUAD_XY: 701199.91400 5298739.45000
SECONDARY_SW_QUAD_XY: 696521.16800 5298578.61600
RMSE_XY: 3.70000
IMAGE_SOURCE: BLACK AND WHITE FILM
SOURCE_IMAGE_ID: NAPP 2640 203
SOURCE_IMAGE_DATE: 1990 7 1
SOURCE_DEM_DATE: 1995 10 25
AGENCY: WESTERN MAPPING CENTER (WMC)
PRODUCER: Analytical Surveys
PRODUCTION_SYSTEM: ORBIT OR_RECTIFY V.5.2
COMPRESSION: UNDEFINED
STANDARD_VERSION: 1996 12
METADATA_DATE: 1997 7 3
DATA_FILE_SIZE: 43659240
BYTE_COUNT: 5640
