Note: This header file was extracted from a digital orthophoto image that covers a full 7.5-minute quadrangle in Universal Transverse Mercator Coordinates. The State Library converted that image to Montana State Plane Coordinates, units meters, and extracted portions of the image that cover a 3.75-minute quarter-quadrangle. The coordinates given in this file do not apply to the State Plane Coordinate images.
BEGIN_USGS_DOQ_HEADER *
QUADRANGLE_NAME "CONEY PEAK" *
QUADRANT *
WEST_LONGITUDE -114 52 30.000 *
EAST_LONGITUDE -114 45 0.000 *
NORTH_LATITUDE 47 45 0.000 *
SOUTH_LATITUDE 47 37 30.000 *
PRODUCTION_DATE 2004 9 14 *
RASTER_ORDER LEFT_RIGHT/TOP_BOTTOM *
BAND_ORGANIZATION "SINGLE FILE" *
BAND_CONTENT BLACK&WHITE *
BITS_PER_PIXEL 8 *
SAMPLES_AND_LINES 10445 14761 *
HORIZONTAL_DATUM NAD83 *
HORIZONTAL_COORDINATE_SYSTEM UTM *
COORDINATE_ZONE 11 *
HORIZONTAL_UNITS METERS *
HORIZONTAL_RESOLUTION 1.0 *
SECONDARY_HORIZONTAL_DATUM NAD27 *
XY_ORIGIN 658903.410 5291270.740 *
SECONDARY_XY_ORIGIN 658980.925 5291060.731 *
NATION US *
STATE MT *
NW_QUAD_CORNER_XY 659276.312 5290701.188 *
NE_QUAD_CORNER_XY 668645.063 5290966.086 *
SE_QUAD_CORNER_XY 669048.672 5277074.608 *
SW_QUAD_CORNER_XY 659657.481 5276809.603 *
SECONDARY_NW_QUAD_XY 659281.302 5290482.443 *
SECONDARY_NE_QUAD_XY 668650.346 5290747.349 *
SECONDARY_SE_QUAD_XY 669053.954 5276855.909 *
SECONDARY_SW_QUAD_XY 659662.469 5276590.895 *
RMSE_XY 1.07 *
IMAGE_SOURCE "BLACK AND WHITE FILM" *
SOURCE_IMAGE_ID "NAPP 12669 39" *
SOURCE_IMAGE_DATE 2003 7 17 *
SOURCE_IMAGE_ID "NAPP 12669 41" *
SOURCE_IMAGE_DATE 2003 7 17 *
SOURCE_IMAGE_ID "NAPP 12673 12" *
SOURCE_IMAGE_DATE 2003 7 23 *
SOURCE_IMAGE_ID "NAPP 12673 10" *
SOURCE_IMAGE_DATE 2003 7 23 *
SOURCE_IMAGE_ID "NAPP 12669 38" *
SOURCE_IMAGE_DATE 2003 7 17 *
SOURCE_IMAGE_ID "NAPP 12669 40" *
SOURCE_IMAGE_DATE 2003 7 17 *
SOURCE_IMAGE_ID "NAPP 12669 42" *
SOURCE_IMAGE_DATE 2003 7 17 *
SOURCE_IMAGE_ID "NAPP 12673 9" *
SOURCE_IMAGE_DATE 2003 7 23 *
SOURCE_IMAGE_ID "NAPP 12673 11" *
SOURCE_IMAGE_DATE 2003 7 23 *
SOURCE_IMAGE_ID "NAPP 12673 13" *
SOURCE_IMAGE_DATE 2003 7 23 *
SOURCE_IMAGE_ID "NAPP 12664 128" *
SOURCE_IMAGE_DATE 2003 6 18 *
SOURCE_IMAGE_ID "NAPP 12664 127" *
SOURCE_IMAGE_DATE 2003 6 18 *
SOURCE_IMAGE_ID "NAPP 12664 126" *
SOURCE_IMAGE_DATE 2003 6 18 *
SOURCE_IMAGE_ID "NAPP 12664 125" *
SOURCE_IMAGE_DATE 2003 6 18 *
SOURCE_IMAGE_ID "NAPP 12664 124" *
SOURCE_IMAGE_DATE 2003 6 18 *
SOURCE_IMAGE_ID "NAPP 12662 49" *
SOURCE_IMAGE_DATE 2002 9 25 *
SOURCE_IMAGE_ID "NAPP 12662 48" *
SOURCE_IMAGE_DATE 2002 9 25 *
SOURCE_IMAGE_ID "NAPP 12662 47" *
SOURCE_IMAGE_DATE 2002 9 25 *
SOURCE_IMAGE_ID "NAPP 12662 46" *
SOURCE_IMAGE_DATE 2002 9 25 *
SOURCE_IMAGE_ID "NAPP 12662 45" *
SOURCE_IMAGE_DATE 2002 9 25 *
SOURCE_DEM_DATE 2004 1 1 *
AGENCY "WESTERN MAPPING CENTER (WMC)" *
PRODUCER "USDA FS GEOSPATIAL SERVICE AND TECHNOLOGY CENTER" *
PRODUCTION_SYSTEM "ORBIT OR_RECTIFY V.5.2" *
STANDARD_VERSION 1996 12 *
METADATA_DATE 2004 10 1 *
DATA_FILE_SIZE 154189090 *
BYTE_COUNT 10445 * *
