FILENAME: O4711420.NES.48656.tif
QUADRANGLE_NAME: HOT SPRINGS NE
QUADRANT: NE
WEST_LONGITUDE: -114 33 45.00000
EAST_LONGITUDE: -114 30 0.00000
NORTH_LATITUDE: 47 45 0.00000
SOUTH_LATITUDE: 47 41 15.00000
PRODUCTION_DATE: 1995 10 25
RASTER_ORDER: LEFT_RIGHT/TOP_BOTTOM
BAND_ORGANIZATION: SINGLE FILE
BAND_CONTENT: BLACK&WHITE
BAND_CONTENT: UNDEFINED
BAND_CONTENT: UNDEFINED
BITS_PER_PIXEL: 8
SAMPLES_AND_LINES: 5610 7740
HORIZONTAL_DATUM: NAD83
HORIZONTAL_COORDINATE_SYSTEM: UTM
COORDINATE_ZONE: 11
HORIZONTAL_UNITS: METERS
HORIZONTAL_RESOLUTION: 1.00000
SECONDARY_HORIZONTAL_DATUM: NAD27
XY_ORIGIN: 682320.00000 5291850.00000
SECONDARY_XY_ORIGIN: 682397.57000 5291640.33700
NATION: US
STATE: MT
NW_QUAD_CORNER_XY: 682698.04300 5291391.84200
NE_QUAD_CORNER_XY: 687382.33000 5291541.33700
SE_QUAD_CORNERY_XY: 687606.69300 5284595.68400
SW_QUAD_CORNER_XY: 682916.79200 5284446.15800
SECONDARY_NW_QUAD_XY: 682703.76400 5291173.11700
SECONDARY_NE_QUAD_XY: 687388.19700 5291322.61700
SECONDARY_SE_QUAD_XY: 687612.55900 5284376.98300
SECONDARY_SW_QUAD_XY: 682922.51200 5284227.45300
RMSE_XY: 3.50000
IMAGE_SOURCE: BLACK AND WHITE FILM
SOURCE_IMAGE_ID: NAPP 2640 094
SOURCE_IMAGE_DATE: 1990 7 1
SOURCE_DEM_DATE: 1995 10 25
AGENCY: WESTERN MAPPING CENTER (WMC)
PRODUCER: Analytical Surveys
PRODUCTION_SYSTEM: ORBIT OR_RECTIFY V.5.2
COMPRESSION: UNDEFINED
STANDARD_VERSION: 1996 12
METADATA_DATE: 1997 7 4
DATA_FILE_SIZE: 43427010
BYTE_COUNT: 5610
