FILENAME: O4711421.NWS.48477.tif
QUADRANGLE_NAME: IRVINE HILL
QUADRANT: NW
WEST_LONGITUDE: -114 30 0.00000
EAST_LONGITUDE: -114 26 15.00000
NORTH_LATITUDE: 47 45 0.00000
SOUTH_LATITUDE: 47 41 15.00000
PRODUCTION_DATE: 1995 10 25
RASTER_ORDER: LEFT_RIGHT/TOP_BOTTOM
BAND_ORGANIZATION: SINGLE FILE
BAND_CONTENT: BLACK&WHITE
BAND_CONTENT: UNDEFINED
BAND_CONTENT: UNDEFINED
BITS_PER_PIXEL: 8
SAMPLES_AND_LINES: 5610 7740
HORIZONTAL_DATUM: NAD83
HORIZONTAL_COORDINATE_SYSTEM: UTM
COORDINATE_ZONE: 11
HORIZONTAL_UNITS: METERS
HORIZONTAL_RESOLUTION: 1.00000
SECONDARY_HORIZONTAL_DATUM: NAD27
XY_ORIGIN: 687000.00000 5292000.00000
SECONDARY_XY_ORIGIN: 687077.72800 5291790.42200
NATION: US
STATE: MT
NW_QUAD_CORNER_XY: 687382.33000 5291541.33700
NE_QUAD_CORNER_XY: 692066.59400 5291694.62100
SE_QUAD_CORNERY_XY: 692296.57300 5284749.00000
SW_QUAD_CORNER_XY: 687606.69300 5284595.68400
SECONDARY_NW_QUAD_XY: 687388.19700 5291322.61700
SECONDARY_NE_QUAD_XY: 692072.60800 5291475.90600
SECONDARY_SE_QUAD_XY: 692302.58600 5284530.30400
SECONDARY_SW_QUAD_XY: 687612.55900 5284376.98300
RMSE_XY: 2.60000
IMAGE_SOURCE: BLACK AND WHITE FILM
SOURCE_IMAGE_ID: NAPP 2640 117
SOURCE_IMAGE_DATE: 1990 7 1
SOURCE_DEM_DATE: 1995 10 25
AGENCY: WESTERN MAPPING CENTER (WMC)
PRODUCER: Analytical Surveys
PRODUCTION_SYSTEM: ORBIT OR_RECTIFY V.5.2
COMPRESSION: UNDEFINED
STANDARD_VERSION: 1996 12
METADATA_DATE: 1997 7 3
DATA_FILE_SIZE: 43427010
BYTE_COUNT: 5610
