FILENAME: O4711422.SWS.48339.tif
QUADRANGLE_NAME: BUFFALO BRIDGE
QUADRANT: SW
WEST_LONGITUDE: -114 22 30.00000
EAST_LONGITUDE: -114 18 45.00000
NORTH_LATITUDE: 47 41 15.00000
SOUTH_LATITUDE: 47 37 30.00000
PRODUCTION_DATE: 1995 10 25
RASTER_ORDER: LEFT_RIGHT/TOP_BOTTOM
BAND_ORGANIZATION: SINGLE FILE
BAND_CONTENT: BLACK&WHITE
BAND_CONTENT: UNDEFINED
BAND_CONTENT: UNDEFINED
BITS_PER_PIXEL: 8
SAMPLES_AND_LINES: 5640 7740
HORIZONTAL_DATUM: NAD83
HORIZONTAL_COORDINATE_SYSTEM: UTM
COORDINATE_ZONE: 11
HORIZONTAL_UNITS: METERS
HORIZONTAL_RESOLUTION: 1.00000
SECONDARY_HORIZONTAL_DATUM: NAD27
XY_ORIGIN: 696600.00000 5285370.00000
SECONDARY_XY_ORIGIN: 696677.86400 5285160.76000
NATION: US
STATE: MT
NW_QUAD_CORNER_XY: 696986.43200 5284906.10600
NE_QUAD_CORNER_XY: 701676.26900 5285067.00200
SE_QUAD_CORNERY_XY: 701917.23900 5278121.50600
SW_QUAD_CORNER_XY: 697221.79100 5277960.57800
SECONDARY_NW_QUAD_XY: 696992.59200 5284687.41500
SECONDARY_NE_QUAD_XY: 701682.57600 5284848.31600
SECONDARY_SE_QUAD_XY: 701923.54500 5277902.83900
SECONDARY_SW_QUAD_XY: 697227.95000 5277741.90600
RMSE_XY: 2.20000
IMAGE_SOURCE: BLACK AND WHITE FILM
SOURCE_IMAGE_ID: NAPP 2640 197
SOURCE_IMAGE_DATE: 1990 7 1
SOURCE_DEM_DATE: 1995 10 25
AGENCY: WESTERN MAPPING CENTER (WMC)
PRODUCER: Analytical Surveys
PRODUCTION_SYSTEM: ORBIT OR_RECTIFY V.5.2
COMPRESSION: UNDEFINED
STANDARD_VERSION: 1996 12
METADATA_DATE: 1997 7 3
DATA_FILE_SIZE: 43659240
BYTE_COUNT: 5640
