FILENAME: O4711422.NWS.48337.tif
QUADRANGLE_NAME: BUFFALO BRIDGE
QUADRANT: NW
WEST_LONGITUDE: -114 22 30.00000
EAST_LONGITUDE: -114 18 45.00000
NORTH_LATITUDE: 47 45 0.00000
SOUTH_LATITUDE: 47 41 15.00000
PRODUCTION_DATE: 1995 10 25
RASTER_ORDER: LEFT_RIGHT/TOP_BOTTOM
BAND_ORGANIZATION: SINGLE FILE
BAND_CONTENT: BLACK&WHITE
BAND_CONTENT: UNDEFINED
BAND_CONTENT: UNDEFINED
BITS_PER_PIXEL: 8
SAMPLES_AND_LINES: 5640 7740
HORIZONTAL_DATUM: NAD83
HORIZONTAL_COORDINATE_SYSTEM: UTM
COORDINATE_ZONE: 11
HORIZONTAL_UNITS: METERS
HORIZONTAL_RESOLUTION: 1.00000
SECONDARY_HORIZONTAL_DATUM: NAD27
XY_ORIGIN: 696360.00000 5292330.00000
SECONDARY_XY_ORIGIN: 696437.80000 5292120.66500
NATION: US
STATE: MT
NW_QUAD_CORNER_XY: 696750.83700 5291851.69500
NE_QUAD_CORNER_XY: 701435.05800 5292012.55800
SE_QUAD_CORNERY_XY: 701676.26900 5285067.00200
SW_QUAD_CORNER_XY: 696986.43200 5284906.10600
SECONDARY_NW_QUAD_XY: 696756.99800 5291632.98500
SECONDARY_NE_QUAD_XY: 701441.36500 5291793.85300
SECONDARY_SE_QUAD_XY: 701682.57600 5284848.31600
SECONDARY_SW_QUAD_XY: 696992.59200 5284687.41500
RMSE_XY: 2.20000
IMAGE_SOURCE: BLACK AND WHITE FILM
SOURCE_IMAGE_ID: NAPP 2640 199
SOURCE_IMAGE_DATE: 1990 7 1
SOURCE_DEM_DATE: 1995 10 25
AGENCY: WESTERN MAPPING CENTER (WMC)
PRODUCER: Analytical Surveys
PRODUCTION_SYSTEM: ORBIT OR_RECTIFY V.5.2
COMPRESSION: UNDEFINED
STANDARD_VERSION: 1996 12
METADATA_DATE: 1997 7 3
DATA_FILE_SIZE: 43659240
BYTE_COUNT: 5640
