FILENAME: O4711423.SWS.48215.tif
QUADRANGLE_NAME: POLSON
QUADRANT: SW
WEST_LONGITUDE: -114 15 0.00000
EAST_LONGITUDE: -114 11 15.00000
NORTH_LATITUDE: 47 41 15.00000
SOUTH_LATITUDE: 47 37 30.00000
PRODUCTION_DATE: 1995 10 31
RASTER_ORDER: LEFT_RIGHT/TOP_BOTTOM
BAND_ORGANIZATION: SINGLE FILE
BAND_CONTENT: BLACK&WHITE
BAND_CONTENT: UNDEFINED
BAND_CONTENT: UNDEFINED
BITS_PER_PIXEL: 8
SAMPLES_AND_LINES: 5620 7749
HORIZONTAL_DATUM: NAD83
HORIZONTAL_COORDINATE_SYSTEM: UTM
COORDINATE_ZONE: 11
HORIZONTAL_UNITS: METERS
HORIZONTAL_RESOLUTION: 1.00000
SECONDARY_HORIZONTAL_DATUM: NAD27
XY_ORIGIN: 706000.00000 5285719.00000
SECONDARY_XY_ORIGIN: 706077.86700 5285509.72400
NATION: US
STATE: MT
NW_QUAD_CORNER_XY: 706366.08400 5285231.68900
NE_QUAD_CORNER_XY: 711055.87600 5285400.16700
SE_QUAD_CORNERY_XY: 711308.06800 5278454.73800
SW_QUAD_CORNER_XY: 706612.66500 5278286.22600
SECONDARY_NW_QUAD_XY: 706372.53700 5285013.00800
SECONDARY_NE_QUAD_XY: 711062.47600 5285181.49100
SECONDARY_SE_QUAD_XY: 711314.66800 5278236.08100
SECONDARY_SW_QUAD_XY: 706619.11700 5278067.56400
RMSE_XY: 2.70000
IMAGE_SOURCE: BLACK AND WHITE FILM
SOURCE_IMAGE_ID: NAPP 2641 014
SOURCE_IMAGE_DATE: 1990 7 1
SOURCE_DEM_DATE: 1995 10 31
AGENCY: WESTERN MAPPING CENTER (WMC)
PRODUCER: Analytical Surveys
PRODUCTION_SYSTEM: ORBIT OR_RECTIFY V.5.2
COMPRESSION: UNDEFINED
STANDARD_VERSION: 1996 12
METADATA_DATE: 1997 7 3
DATA_FILE_SIZE: 43555000
BYTE_COUNT: 5620
