FILENAME: O4711456.SWS.48101.tif
QUADRANGLE_NAME: ARLEE
QUADRANT: SW
WEST_LONGITUDE: -114 7 30.00000
EAST_LONGITUDE: -114 3 45.00000
NORTH_LATITUDE: 47 11 15.00000
SOUTH_LATITUDE: 47 7 30.00000
PRODUCTION_DATE: 1995 11 2
RASTER_ORDER: LEFT_RIGHT/TOP_BOTTOM
BAND_ORGANIZATION: SINGLE FILE
BAND_CONTENT: BLACK&WHITE
BAND_CONTENT: UNDEFINED
BAND_CONTENT: UNDEFINED
BITS_PER_PIXEL: 8
SAMPLES_AND_LINES: 5700 7770
HORIZONTAL_DATUM: NAD83
HORIZONTAL_COORDINATE_SYSTEM: UTM
COORDINATE_ZONE: 11
HORIZONTAL_UNITS: METERS
HORIZONTAL_RESOLUTION: 1.00000
SECONDARY_HORIZONTAL_DATUM: NAD27
XY_ORIGIN: 717420.00000 5230500.00000
SECONDARY_XY_ORIGIN: 717498.02400 5230292.18100
NATION: US
STATE: MT
NW_QUAD_CORNER_XY: 717800.82800 5230010.87900
NE_QUAD_CORNER_XY: 722535.31800 5230187.20100
SE_QUAD_CORNERY_XY: 722796.61400 5223242.29200
SW_QUAD_CORNER_XY: 718056.55600 5223065.94100
SECONDARY_NW_QUAD_XY: 717807.56800 5229792.38700
SECONDARY_NE_QUAD_XY: 722542.20500 5229968.71500
SECONDARY_SE_QUAD_XY: 722803.50000 5223023.83200
SECONDARY_SW_QUAD_XY: 718063.29600 5222847.47600
RMSE_XY: 2.50000
IMAGE_SOURCE: BLACK AND WHITE FILM
SOURCE_IMAGE_ID: NAPP 2646 052
SOURCE_IMAGE_DATE: 1990 8 7
SOURCE_DEM_DATE: 1995 11 2
AGENCY: WESTERN MAPPING CENTER (WMC)
PRODUCER: Analytical Surveys
PRODUCTION_SYSTEM: ORBIT OR_RECTIFY V.5.2
COMPRESSION: UNDEFINED
STANDARD_VERSION: 1996 12
METADATA_DATE: 1997 7 3
DATA_FILE_SIZE: 44294700
BYTE_COUNT: 5700
