FILENAME: O4711301.SWS.47952.tif
QUADRANGLE_NAME: YEW CREEK
QUADRANT: SW
WEST_LONGITUDE: -114 0 0.00000
EAST_LONGITUDE: -113 56 15.00000
NORTH_LATITUDE: 47 56 15.00000
SOUTH_LATITUDE: 47 52 30.00000
PRODUCTION_DATE: 1994 11 14
RASTER_ORDER: LEFT_RIGHT/TOP_BOTTOM
BAND_ORGANIZATION: SINGLE FILE
BAND_CONTENT: BLACK&WHITE
BAND_CONTENT: UNDEFINED
BAND_CONTENT: UNDEFINED
BITS_PER_PIXEL: 8
SAMPLES_AND_LINES: 5610 7732
HORIZONTAL_DATUM: NAD83
HORIZONTAL_COORDINATE_SYSTEM: UTM
COORDINATE_ZONE: 12
HORIZONTAL_UNITS: METERS
HORIZONTAL_RESOLUTION: 1.00000
SECONDARY_HORIZONTAL_DATUM: NAD27
XY_ORIGIN: 275312.00000 5314011.00000
SECONDARY_XY_ORIGIN: 275375.39800 5313795.27900
NATION: US
STATE: MT
NW_QUAD_CORNER_XY: 275953.70900 5313710.19100
NE_QUAD_CORNER_XY: 280620.91900 5313530.49200
SE_QUAD_CORNERY_XY: 280356.44800 5306584.90900
SW_QUAD_CORNER_XY: 275683.60200 5306764.64700
SECONDARY_NW_QUAD_XY: 275946.66600 5313491.46200
SECONDARY_NE_QUAD_XY: 280614.02300 5313311.75800
SECONDARY_SE_QUAD_XY: 280349.55200 5306366.19100
SECONDARY_SW_QUAD_XY: 275676.56000 5306545.93500
RMSE_XY: 3.60000
IMAGE_SOURCE: BLACK AND WHITE FILM
SOURCE_IMAGE_ID: NAPP 2631 030
SOURCE_IMAGE_DATE: 1991 7 20
SOURCE_DEM_DATE: 1994 11 14
AGENCY: WESTERN MAPPING CENTER (WMC)
PRODUCER: Science Applications International
PRODUCTION_SYSTEM: IIS/PRISM
COMPRESSION: UNDEFINED
STANDARD_VERSION: 1996 12
METADATA_DATE: 1997 6 19
DATA_FILE_SIZE: 43382130
BYTE_COUNT: 5610
