FILENAME: O4711302.SES.47812.tif
QUADRANGLE_NAME: SWAN LAKE
QUADRANT: SE
WEST_LONGITUDE: -113 48 45.00000
EAST_LONGITUDE: -113 45 0.00000
NORTH_LATITUDE: 47 56 15.00000
SOUTH_LATITUDE: 47 52 30.00000
PRODUCTION_DATE: 1994 11 14
RASTER_ORDER: LEFT_RIGHT/TOP_BOTTOM
BAND_ORGANIZATION: SINGLE FILE
BAND_CONTENT: BLACK&WHITE
BAND_CONTENT: UNDEFINED
BAND_CONTENT: UNDEFINED
BITS_PER_PIXEL: 8
SAMPLES_AND_LINES: 5593 7721
HORIZONTAL_DATUM: NAD83
HORIZONTAL_COORDINATE_SYSTEM: UTM
COORDINATE_ZONE: 12
HORIZONTAL_UNITS: METERS
HORIZONTAL_RESOLUTION: 1.00000
SECONDARY_HORIZONTAL_DATUM: NAD27
XY_ORIGIN: 289331.00000 5313483.00000
SECONDARY_XY_ORIGIN: 289394.09600 5313267.45400
NATION: US
STATE: MT
NW_QUAD_CORNER_XY: 289955.41900 5313182.46000
NE_QUAD_CORNER_XY: 294622.70800 5313014.12600
SE_QUAD_CORNERY_XY: 294375.14000 5306068.42900
SW_QUAD_CORNER_XY: 289702.21700 5306236.80000
SECONDARY_NW_QUAD_XY: 289948.81700 5312963.71500
SECONDARY_NE_QUAD_XY: 294616.25200 5312795.37600
SECONDARY_SE_QUAD_XY: 294368.68500 5305849.69500
SECONDARY_SW_QUAD_XY: 289695.61600 5306018.07100
RMSE_XY: 2.90000
IMAGE_SOURCE: BLACK AND WHITE FILM
SOURCE_IMAGE_ID: NAPP 2636 019
SOURCE_IMAGE_DATE: 1991 8 4
SOURCE_DEM_DATE: 1994 11 14
AGENCY: WESTERN MAPPING CENTER (WMC)
PRODUCER: Science Applications International
PRODUCTION_SYSTEM: IIS/PRISM
COMPRESSION: UNDEFINED
STANDARD_VERSION: 1996 12
METADATA_DATE: 1997 6 19
DATA_FILE_SIZE: 43189146
BYTE_COUNT: 5593
