FILENAME: O4711303.NWS.47652.tif
QUADRANGLE_NAME: CONNOR CREEK
QUADRANT: NW
WEST_LONGITUDE: -113 45 0.00000
EAST_LONGITUDE: -113 41 15.00000
NORTH_LATITUDE: 48 0 0.00000
SOUTH_LATITUDE: 47 56 15.00000
PRODUCTION_DATE: 1995 4 28
RASTER_ORDER: LEFT_RIGHT/TOP_BOTTOM
BAND_ORGANIZATION: SINGLE FILE
BAND_CONTENT: BLACK&WHITE
BAND_CONTENT: UNDEFINED
BAND_CONTENT: UNDEFINED
BITS_PER_PIXEL: 8
SAMPLES_AND_LINES: 5582 7716
HORIZONTAL_DATUM: NAD83
HORIZONTAL_COORDINATE_SYSTEM: UTM
COORDINATE_ZONE: 12
HORIZONTAL_UNITS: METERS
HORIZONTAL_RESOLUTION: 1.00000
SECONDARY_HORIZONTAL_DATUM: NAD27
XY_ORIGIN: 294252.00000 5320260.00000
SECONDARY_XY_ORIGIN: 294314.87000 5320044.24000
NATION: US
STATE: MT
NW_QUAD_CORNER_XY: 294870.52000 5319959.88000
NE_QUAD_CORNER_XY: 299532.20000 5319795.37000
SE_QUAD_CORNERY_XY: 299290.02000 5312849.58000
SW_QUAD_CORNER_XY: 294622.71000 5313014.12000
SECONDARY_NW_QUAD_XY: 294864.06000 5319741.12000
SECONDARY_NE_QUAD_XY: 299525.89000 5319576.60000
SECONDARY_SE_QUAD_XY: 299283.71000 5312630.82000
SECONDARY_SW_QUAD_XY: 294616.25000 5312795.38000
RMSE_XY: 5.80000
IMAGE_SOURCE: BLACK AND WHITE FILM
SOURCE_IMAGE_ID: NAPP 2617 32
SOURCE_IMAGE_DATE: 1990 9 7
SOURCE_IMAGE_ID: NAPP 2617 2617
SOURCE_IMAGE_DATE: 1990 9 7
SOURCE_IMAGE_ID: NAPP 2617 31
SOURCE_IMAGE_DATE: 1990 9 7
SOURCE_DEM_DATE: 1995 4 28
AGENCY: WESTERN MAPPING CENTER (WMC)
PRODUCER: Science Applications International
PRODUCTION_SYSTEM: GIS/MAGIC
COMPRESSION: UNDEFINED
STANDARD_VERSION: 1996 12
METADATA_DATE: 1997 7 4
DATA_FILE_SIZE: 43076294
BYTE_COUNT: 5582
