FILENAME: O4711304.SES.47473.tif
QUADRANGLE_NAME: TIN CREEK
QUADRANT: SE
WEST_LONGITUDE: -113 33 45.00000
EAST_LONGITUDE: -113 30 0.00000
NORTH_LATITUDE: 47 56 15.00000
SOUTH_LATITUDE: 47 52 30.00000
PRODUCTION_DATE: 1994 11 14
RASTER_ORDER: LEFT_RIGHT/TOP_BOTTOM
BAND_ORGANIZATION: SINGLE FILE
BAND_CONTENT: BLACK&WHITE
BAND_CONTENT: UNDEFINED
BAND_CONTENT: UNDEFINED
BITS_PER_PIXEL: 8
SAMPLES_AND_LINES: 5571 7706
HORIZONTAL_DATUM: NAD83
HORIZONTAL_COORDINATE_SYSTEM: UTM
COORDINATE_ZONE: 12
HORIZONTAL_UNITS: METERS
HORIZONTAL_RESOLUTION: 1.00000
SECONDARY_HORIZONTAL_DATUM: NAD27
XY_ORIGIN: 308023.00000 5312832.00000
SECONDARY_XY_ORIGIN: 308086.08000 5312616.80700
NATION: US
STATE: MT
NW_QUAD_CORNER_XY: 308624.72100 5312531.84900
NE_QUAD_CORNER_XY: 313292.10600 5312378.66400
SE_QUAD_CORNERY_XY: 313067.07000 5305432.82700
SW_QUAD_CORNER_XY: 308394.05300 5305586.04600
SECONDARY_NW_QUAD_XY: 308618.70500 5312313.08400
SECONDARY_NE_QUAD_XY: 313286.23700 5312159.89400
SECONDARY_SE_QUAD_XY: 313061.20200 5305214.07300
SECONDARY_SW_QUAD_XY: 308388.03800 5305367.29600
RMSE_XY: 3.00000
IMAGE_SOURCE: BLACK AND WHITE FILM
SOURCE_IMAGE_ID: NAPP 2617 148
SOURCE_IMAGE_DATE: 1990 9 7
SOURCE_DEM_DATE: 1994 11 14
AGENCY: WESTERN MAPPING CENTER (WMC)
PRODUCER: Science Applications International
PRODUCTION_SYSTEM: IIS/PRISM
COMPRESSION: UNDEFINED
STANDARD_VERSION: 1996 12
METADATA_DATE: 1997 7 4
DATA_FILE_SIZE: 42935697
BYTE_COUNT: 5571
