FILENAME: O4711305.SWS.47293.tif
QUADRANGLE_NAME: SPOTTED BEAR MOUNTAIN
QUADRANT: SW
WEST_LONGITUDE: -113 30 0.00000
EAST_LONGITUDE: -113 26 15.00000
NORTH_LATITUDE: 47 56 15.00000
SOUTH_LATITUDE: 47 52 30.00000
PRODUCTION_DATE: 1995 4 28
RASTER_ORDER: LEFT_RIGHT/TOP_BOTTOM
BAND_ORGANIZATION: SINGLE FILE
BAND_CONTENT: BLACK&WHITE
BAND_CONTENT: UNDEFINED
BAND_CONTENT: UNDEFINED
BITS_PER_PIXEL: 8
SAMPLES_AND_LINES: 5564 7702
HORIZONTAL_DATUM: NAD83
HORIZONTAL_COORDINATE_SYSTEM: UTM
COORDINATE_ZONE: 12
HORIZONTAL_UNITS: METERS
HORIZONTAL_RESOLUTION: 1.00000
SECONDARY_HORIZONTAL_DATUM: NAD27
XY_ORIGIN: 312697.00000 5312679.00000
SECONDARY_XY_ORIGIN: 312760.12000 5312463.91000
NATION: US
STATE: MT
NW_QUAD_CORNER_XY: 313292.11000 5312378.66000
NE_QUAD_CORNER_XY: 317959.51000 5312229.26000
SE_QUAD_CORNERY_XY: 317740.11000 5305283.40000
SW_QUAD_CORNER_XY: 313067.07000 5305432.83000
SECONDARY_NW_QUAD_XY: 313286.24000 5312159.89000
SECONDARY_NE_QUAD_XY: 317953.79000 5312010.49000
SECONDARY_SE_QUAD_XY: 317734.39000 5305064.64000
SECONDARY_SW_QUAD_XY: 313061.20000 5305214.07000
RMSE_XY: 3.20000
IMAGE_SOURCE: BLACK AND WHITE FILM
SOURCE_IMAGE_ID: NAPP 2617 183
SOURCE_IMAGE_DATE: 1990 9 7
SOURCE_IMAGE_ID: NAPP 2617 2617
SOURCE_IMAGE_DATE: 1990 9 7
SOURCE_IMAGE_ID: NAPP 2617 182
SOURCE_IMAGE_DATE: 1990 9 7
SOURCE_DEM_DATE: 1995 4 28
AGENCY: WESTERN MAPPING CENTER (WMC)
PRODUCER: Science Applications International
PRODUCTION_SYSTEM: GIS/MAGIC
COMPRESSION: UNDEFINED
STANDARD_VERSION: 1996 12
METADATA_DATE: 1997 7 4
DATA_FILE_SIZE: 42859492
BYTE_COUNT: 5564
