FILENAME: O4711306.SWS.47103.tif
QUADRANGLE_NAME: WHITCOMB PEAK
QUADRANT: SW
WEST_LONGITUDE: -113 22 30.00000
EAST_LONGITUDE: -113 18 45.00000
NORTH_LATITUDE: 47 56 15.00000
SOUTH_LATITUDE: 47 52 30.00000
PRODUCTION_DATE: 1994 11 14
RASTER_ORDER: LEFT_RIGHT/TOP_BOTTOM
BAND_ORGANIZATION: SINGLE FILE
BAND_CONTENT: BLACK&WHITE
BAND_CONTENT: UNDEFINED
BAND_CONTENT: UNDEFINED
BITS_PER_PIXEL: 8
SAMPLES_AND_LINES: 5553 7695
HORIZONTAL_DATUM: NAD83
HORIZONTAL_COORDINATE_SYSTEM: UTM
COORDINATE_ZONE: 12
HORIZONTAL_UNITS: METERS
HORIZONTAL_RESOLUTION: 1.00000
SECONDARY_HORIZONTAL_DATUM: NAD27
XY_ORIGIN: 322043.00000 5312384.00000
SECONDARY_XY_ORIGIN: 322105.91600 5312169.04100
NATION: US
STATE: MT
NW_QUAD_CORNER_XY: 322626.94300 5312083.65300
NE_QUAD_CORNER_XY: 327294.39400 5311941.82600
SE_QUAD_CORNERY_XY: 327086.25200 5304995.89300
SW_QUAD_CORNER_XY: 322413.17000 5305137.75100
SECONDARY_NW_QUAD_XY: 322621.36800 5311864.87400
SECONDARY_NE_QUAD_XY: 327288.96600 5311723.04200
SECONDARY_SE_QUAD_XY: 327080.82400 5304777.12500
SECONDARY_SW_QUAD_XY: 322407.59600 5304918.98700
RMSE_XY: 3.80000
IMAGE_SOURCE: BLACK AND WHITE FILM
SOURCE_IMAGE_ID: NAPP 2635 019
SOURCE_IMAGE_DATE: 1991 8 4
SOURCE_DEM_DATE: 1994 11 14
AGENCY: WESTERN MAPPING CENTER (WMC)
PRODUCER: Science Applications International
PRODUCTION_SYSTEM: IIS/PRISM
COMPRESSION: UNDEFINED
STANDARD_VERSION: 1996 12
METADATA_DATE: 1997 7 4
DATA_FILE_SIZE: 42735888
BYTE_COUNT: 5553
