FILENAME: O4711306.SES.47102.tif
QUADRANGLE_NAME: WHITCOMB PEAK
QUADRANT: SE
WEST_LONGITUDE: -113 18 45.00000
EAST_LONGITUDE: -113 15 0.00000
NORTH_LATITUDE: 47 56 15.00000
SOUTH_LATITUDE: 47 52 30.00000
PRODUCTION_DATE: 1995 4 28
RASTER_ORDER: LEFT_RIGHT/TOP_BOTTOM
BAND_ORGANIZATION: SINGLE FILE
BAND_CONTENT: BLACK&WHITE
BAND_CONTENT: UNDEFINED
BAND_CONTENT: UNDEFINED
BITS_PER_PIXEL: 8
SAMPLES_AND_LINES: 5546 7691
HORIZONTAL_DATUM: NAD83
HORIZONTAL_COORDINATE_SYSTEM: UTM
COORDINATE_ZONE: 12
HORIZONTAL_UNITS: METERS
HORIZONTAL_RESOLUTION: 1.00000
SECONDARY_HORIZONTAL_DATUM: NAD27
XY_ORIGIN: 326717.00000 5312242.00000
SECONDARY_XY_ORIGIN: 326779.81000 5312027.11000
NATION: US
STATE: MT
NW_QUAD_CORNER_XY: 327294.39000 5311941.83000
NE_QUAD_CORNER_XY: 331961.87000 5311803.78000
SE_QUAD_CORNERY_XY: 331759.35000 5304857.82000
SW_QUAD_CORNER_XY: 327086.25000 5304995.89000
SECONDARY_NW_QUAD_XY: 327288.97000 5311723.04000
SECONDARY_NE_QUAD_XY: 331956.58000 5311585.00000
SECONDARY_SE_QUAD_XY: 331754.07000 5304639.05000
SECONDARY_SW_QUAD_XY: 327080.82000 5304777.12000
RMSE_XY: 4.00000
IMAGE_SOURCE: BLACK AND WHITE FILM
SOURCE_IMAGE_ID: NAPP 2635 46
SOURCE_IMAGE_DATE: 1991 8 4
SOURCE_IMAGE_ID: NAPP 2635 2635
SOURCE_IMAGE_DATE: 1991 8 4
SOURCE_IMAGE_ID: NAPP 2635 45
SOURCE_IMAGE_DATE: 1991 8 4
SOURCE_DEM_DATE: 1995 4 28
AGENCY: WESTERN MAPPING CENTER (WMC)
PRODUCER: Science Applications International
PRODUCTION_SYSTEM: GIS/MAGIC
COMPRESSION: UNDEFINED
STANDARD_VERSION: 1996 12
METADATA_DATE: 1997 7 4
DATA_FILE_SIZE: 42659832
BYTE_COUNT: 5546
