FILENAME: O4711307.SWS.46905.tif
QUADRANGLE_NAME: TRILOBITE PEAK
QUADRANT: SW
WEST_LONGITUDE: -113 15 0.00000
EAST_LONGITUDE: -113 11 15.00000
NORTH_LATITUDE: 47 56 15.00000
SOUTH_LATITUDE: 47 52 30.00000
PRODUCTION_DATE: 1994 11 14
RASTER_ORDER: LEFT_RIGHT/TOP_BOTTOM
BAND_ORGANIZATION: SINGLE FILE
BAND_CONTENT: BLACK&WHITE
BAND_CONTENT: UNDEFINED
BAND_CONTENT: UNDEFINED
BITS_PER_PIXEL: 8
SAMPLES_AND_LINES: 5541 7687
HORIZONTAL_DATUM: NAD83
HORIZONTAL_COORDINATE_SYSTEM: UTM
COORDINATE_ZONE: 12
HORIZONTAL_UNITS: METERS
HORIZONTAL_RESOLUTION: 1.00000
SECONDARY_HORIZONTAL_DATUM: NAD27
XY_ORIGIN: 331390.00000 5312104.00000
SECONDARY_XY_ORIGIN: 331452.69900 5311889.17900
NATION: US
STATE: MT
NW_QUAD_CORNER_XY: 331961.86600 5311803.78500
NE_QUAD_CORNER_XY: 336629.35900 5311669.52900
SE_QUAD_CORNERY_XY: 336432.47700 5304723.53500
SW_QUAD_CORNER_XY: 331759.35500 5304857.82100
SECONDARY_NW_QUAD_XY: 331956.58400 5311584.99700
SECONDARY_NE_QUAD_XY: 336624.22400 5311450.73600
SECONDARY_SE_QUAD_XY: 336427.34300 5304504.75900
SECONDARY_SW_QUAD_XY: 331754.07400 5304639.04900
RMSE_XY: 4.20000
IMAGE_SOURCE: BLACK AND WHITE FILM
SOURCE_IMAGE_ID: NAPP 2615 030
SOURCE_IMAGE_DATE: 1990 9 3
SOURCE_DEM_DATE: 1994 11 14
AGENCY: WESTERN MAPPING CENTER (WMC)
PRODUCER: Science Applications International
PRODUCTION_SYSTEM: IIS/PRISM
COMPRESSION: UNDEFINED
STANDARD_VERSION: 1996 12
METADATA_DATE: 1997 7 3
DATA_FILE_SIZE: 42599208
BYTE_COUNT: 5541
