FILENAME: O4711308.SWS.46733.tif
QUADRANGLE_NAME: PENTAGON MOUNTAIN
QUADRANT: SW
WEST_LONGITUDE: -113 7 30.00000
EAST_LONGITUDE: -113 3 45.00000
NORTH_LATITUDE: 47 56 15.00000
SOUTH_LATITUDE: 47 52 30.00000
PRODUCTION_DATE: 1994 11 14
RASTER_ORDER: LEFT_RIGHT/TOP_BOTTOM
BAND_ORGANIZATION: SINGLE FILE
BAND_CONTENT: BLACK&WHITE
BAND_CONTENT: UNDEFINED
BAND_CONTENT: UNDEFINED
BITS_PER_PIXEL: 8
SAMPLES_AND_LINES: 5529 7680
HORIZONTAL_DATUM: NAD83
HORIZONTAL_COORDINATE_SYSTEM: UTM
COORDINATE_ZONE: 12
HORIZONTAL_UNITS: METERS
HORIZONTAL_RESOLUTION: 1.00000
SECONDARY_HORIZONTAL_DATUM: NAD27
XY_ORIGIN: 340737.00000 5311840.00000
SECONDARY_XY_ORIGIN: 340799.44900 5311625.21500
NATION: US
STATE: MT
NW_QUAD_CORNER_XY: 341296.87100 5311539.05800
NE_QUAD_CORNER_XY: 345964.40200 5311412.37100
SE_QUAD_CORNERY_XY: 345778.78000 5304466.32100
SW_QUAD_CORNER_XY: 341105.61900 5304593.03600
SECONDARY_NW_QUAD_XY: 341291.88300 5311320.26100
SECONDARY_NE_QUAD_XY: 345959.56100 5311193.57100
SECONDARY_SE_QUAD_XY: 345773.93900 5304247.53700
SECONDARY_SW_QUAD_XY: 341100.63200 5304374.25500
RMSE_XY: 3.30000
IMAGE_SOURCE: BLACK AND WHITE FILM
SOURCE_IMAGE_ID: NAPP 2611 014
SOURCE_IMAGE_DATE: 1990 8 8
SOURCE_DEM_DATE: 1994 11 14
AGENCY: WESTERN MAPPING CENTER (WMC)
PRODUCER: Science Applications International
PRODUCTION_SYSTEM: IIS/PRISM
COMPRESSION: UNDEFINED
STANDARD_VERSION: 1996 12
METADATA_DATE: 1997 7 3
DATA_FILE_SIZE: 42468249
BYTE_COUNT: 5529
