FILENAME: O4711308.SES.46732.tif
QUADRANGLE_NAME: PENTAGON MOUNTAIN
QUADRANT: SE
WEST_LONGITUDE: -113 3 45.00000
EAST_LONGITUDE: -113 0 0.00000
NORTH_LATITUDE: 47 56 15.00000
SOUTH_LATITUDE: 47 52 30.00000
PRODUCTION_DATE: 1994 11 14
RASTER_ORDER: LEFT_RIGHT/TOP_BOTTOM
BAND_ORGANIZATION: SINGLE FILE
BAND_CONTENT: BLACK&WHITE
BAND_CONTENT: UNDEFINED
BAND_CONTENT: UNDEFINED
BITS_PER_PIXEL: 8
SAMPLES_AND_LINES: 5523 7676
HORIZONTAL_DATUM: NAD83
HORIZONTAL_COORDINATE_SYSTEM: UTM
COORDINATE_ZONE: 12
HORIZONTAL_UNITS: METERS
HORIZONTAL_RESOLUTION: 1.00000
SECONDARY_HORIZONTAL_DATUM: NAD27
XY_ORIGIN: 345410.00000 5311713.00000
SECONDARY_XY_ORIGIN: 345472.32400 5311498.23200
NATION: US
STATE: MT
NW_QUAD_CORNER_XY: 345964.40200 5311412.37100
NE_QUAD_CORNER_XY: 350631.95300 5311289.46900
SE_QUAD_CORNERY_XY: 350451.95900 5304343.39200
SW_QUAD_CORNER_XY: 345778.78000 5304466.32100
SECONDARY_NW_QUAD_XY: 345959.56100 5311193.57100
SECONDARY_NE_QUAD_XY: 350627.25800 5311070.66500
SECONDARY_SE_QUAD_XY: 350447.26500 5304124.60400
SECONDARY_SW_QUAD_XY: 345773.93900 5304247.53700
RMSE_XY: 1.80000
IMAGE_SOURCE: BLACK AND WHITE FILM
SOURCE_IMAGE_ID: NAPP 2609 012
SOURCE_IMAGE_DATE: 1990 8 7
SOURCE_DEM_DATE: 1994 11 14
AGENCY: WESTERN MAPPING CENTER (WMC)
PRODUCER: Science Applications International
PRODUCTION_SYSTEM: IIS/PRISM
COMPRESSION: UNDEFINED
STANDARD_VERSION: 1996 12
METADATA_DATE: 1997 7 3
DATA_FILE_SIZE: 42400071
BYTE_COUNT: 5523
