FILENAME: O4711308.NWS.46731.tif
QUADRANGLE_NAME: PENTAGON MOUNTAIN
QUADRANT: NW
WEST_LONGITUDE: -113 7 30.00000
EAST_LONGITUDE: -113 3 45.00000
NORTH_LATITUDE: 48 0 0.00000
SOUTH_LATITUDE: 47 56 15.00000
PRODUCTION_DATE: 1994 11 14
RASTER_ORDER: LEFT_RIGHT/TOP_BOTTOM
BAND_ORGANIZATION: SINGLE FILE
BAND_CONTENT: BLACK&WHITE
BAND_CONTENT: UNDEFINED
BAND_CONTENT: UNDEFINED
BITS_PER_PIXEL: 8
SAMPLES_AND_LINES: 5524 7680
HORIZONTAL_DATUM: NAD83
HORIZONTAL_COORDINATE_SYSTEM: UTM
COORDINATE_ZONE: 12
HORIZONTAL_UNITS: METERS
HORIZONTAL_RESOLUTION: 1.00000
SECONDARY_HORIZONTAL_DATUM: NAD27
XY_ORIGIN: 340928.00000 5318786.00000
SECONDARY_XY_ORIGIN: 340990.50200 5318571.00000
NATION: US
STATE: MT
NW_QUAD_CORNER_XY: 341488.31300 5318485.14600
NE_QUAD_CORNER_XY: 346150.20900 5318358.48800
SE_QUAD_CORNERY_XY: 345964.40200 5311412.37100
SW_QUAD_CORNER_XY: 341296.87100 5311539.05800
SECONDARY_NW_QUAD_XY: 341483.32400 5318266.33400
SECONDARY_NE_QUAD_XY: 346145.36700 5318139.67200
SECONDARY_SE_QUAD_XY: 345959.56100 5311193.57100
SECONDARY_SW_QUAD_XY: 341291.88300 5311320.26100
RMSE_XY: 3.10000
IMAGE_SOURCE: BLACK AND WHITE FILM
SOURCE_IMAGE_ID: NAPP 2611 016
SOURCE_IMAGE_DATE: 1990 8 8
SOURCE_DEM_DATE: 1994 11 14
AGENCY: WESTERN MAPPING CENTER (WMC)
PRODUCER: Science Applications International
PRODUCTION_SYSTEM: IIS/PRISM
COMPRESSION: UNDEFINED
STANDARD_VERSION: 1996 12
METADATA_DATE: 1997 7 3
DATA_FILE_SIZE: 42429844
BYTE_COUNT: 5524
