Note: This header file was extracted from a digital orthophoto image that covers a full 7.5-minute quadrangle in Universal Transverse Mercator Coordinates. The State Library converted that image to Montana State Plane Coordinates, units meters, and extracted portions of the image that cover a 3.75-minute quarter-quadrangle. The coordinates given in this file do not apply to the State Plane Coordinate images.
BEGIN_USGS_DOQ_HEADER *
QUADRANGLE_NAME "PORCUPINE CREEK" *
QUADRANT *
WEST_LONGITUDE -114 0 0.000 *
EAST_LONGITUDE -113 52 30.000 *
NORTH_LATITUDE 47 52 30.000 *
SOUTH_LATITUDE 47 45 0.000 *
PRODUCTION_DATE 2004 9 28 *
RASTER_ORDER LEFT_RIGHT/TOP_BOTTOM *
BAND_ORGANIZATION "SINGLE FILE" *
BAND_CONTENT BLACK&WHITE *
BITS_PER_PIXEL 8 *
SAMPLES_AND_LINES 10556 14851 *
HORIZONTAL_DATUM NAD83 *
HORIZONTAL_COORDINATE_SYSTEM UTM *
COORDINATE_ZONE 12 *
HORIZONTAL_UNITS METERS *
HORIZONTAL_RESOLUTION 1.0 *
SECONDARY_HORIZONTAL_DATUM NAD27 *
XY_ORIGIN 274773.496 5307064.648 *
SECONDARY_XY_ORIGIN 274837.004 5306849.209 *
NATION US *
STATE MT *
NW_QUAD_CORNER_XY 275683.602 5306764.648 *
NE_QUAD_CORNER_XY 285029.320 5306408.960 *
SE_QUAD_CORNER_XY 284512.420 5292517.887 *
SW_QUAD_CORNER_XY 275144.193 5292873.727 *
SECONDARY_NW_QUAD_XY 275676.564 5306545.936 *
SECONDARY_NE_QUAD_XY 285022.574 5306190.237 *
SECONDARY_SE_QUAD_XY 284505.675 5292299.199 *
SECONDARY_SW_QUAD_XY 275137.156 5292655.050 *
RMSE_XY 0.99 *
IMAGE_SOURCE "BLACK AND WHITE FILM" *
SOURCE_IMAGE_ID "NAPP 12666 192" *
SOURCE_IMAGE_DATE 2003 7 1 *
SOURCE_IMAGE_ID "NAPP 12666 190" *
SOURCE_IMAGE_DATE 2003 7 1 *
SOURCE_IMAGE_ID "NAPP 12679 257" *
SOURCE_IMAGE_DATE 2003 9 27 *
SOURCE_IMAGE_ID "NAPP 12679 259" *
SOURCE_IMAGE_DATE 2003 9 27 *
SOURCE_IMAGE_ID "NAPP 12666 193" *
SOURCE_IMAGE_DATE 2003 7 1 *
SOURCE_IMAGE_ID "NAPP 12666 191" *
SOURCE_IMAGE_DATE 2003 7 1 *
SOURCE_IMAGE_ID "NAPP 12666 189" *
SOURCE_IMAGE_DATE 2003 7 1 *
SOURCE_IMAGE_ID "NAPP 12679 260" *
SOURCE_IMAGE_DATE 2003 9 27 *
SOURCE_IMAGE_ID "NAPP 12679 258" *
SOURCE_IMAGE_DATE 2003 9 27 *
SOURCE_IMAGE_ID "NAPP 12679 256" *
SOURCE_IMAGE_DATE 2003 9 27 *
SOURCE_IMAGE_ID "NAPP 12677 165" *
SOURCE_IMAGE_DATE 2003 9 24 *
SOURCE_IMAGE_ID "NAPP 12677 164" *
SOURCE_IMAGE_DATE 2003 9 24 *
SOURCE_IMAGE_ID "NAPP 12677 163" *
SOURCE_IMAGE_DATE 2003 9 24 *
SOURCE_IMAGE_ID "NAPP 12677 162" *
SOURCE_IMAGE_DATE 2003 9 24 *
SOURCE_IMAGE_ID "NAPP 12677 161" *
SOURCE_IMAGE_DATE 2003 9 24 *
SOURCE_DEM_DATE 2004 1 1 *
AGENCY "WESTERN MAPPING CENTER (WMC)" *
PRODUCER "USDA FS GEOSPATIAL SERVICE AND TECHNOLOGY CENTER" *
PRODUCTION_SYSTEM "ORBIT OR_RECTIFY V.5.2" *
STANDARD_VERSION 1996 12 *
METADATA_DATE 2004 10 4 *
DATA_FILE_SIZE 156777712 *
BYTE_COUNT 10556 * *
