Note: This header file was extracted from a digital orthophoto image that covers a full 7.5-minute quadrangle in Universal Transverse Mercator Coordinates. The State Library converted that image to Montana State Plane Coordinates, units meters, and extracted portions of the image that cover a 3.75-minute quarter-quadrangle. The coordinates given in this file do not apply to the State Plane Coordinate images.
BEGIN_USGS_DOQ_HEADER *
QUADRANGLE_NAME "MEADOW CREEK" *
QUADRANT *
WEST_LONGITUDE -113 30 0.000 *
EAST_LONGITUDE -113 22 30.000 *
NORTH_LATITUDE 47 52 30.000 *
SOUTH_LATITUDE 47 45 0.000 *
PRODUCTION_DATE 2004 9 28 *
RASTER_ORDER LEFT_RIGHT/TOP_BOTTOM *
BAND_ORGANIZATION "SINGLE FILE" *
BAND_CONTENT BLACK&WHITE *
BITS_PER_PIXEL 8 *
SAMPLES_AND_LINES 10464 14791 *
HORIZONTAL_DATUM NAD83 *
HORIZONTAL_COORDINATE_SYSTEM UTM *
COORDINATE_ZONE 12 *
HORIZONTAL_UNITS METERS *
HORIZONTAL_RESOLUTION 1.0 *
SECONDARY_HORIZONTAL_DATUM NAD27 *
XY_ORIGIN 312248.674 5305732.827 *
SECONDARY_XY_ORIGIN 312311.788 5305517.961 *
NATION US *
STATE MT *
NW_QUAD_CORNER_XY 313067.070 5305432.827 *
NE_QUAD_CORNER_XY 322413.170 5305137.751 *
SE_QUAD_CORNER_XY 321986.263 5291246.135 *
SW_QUAD_CORNER_XY 312617.670 5291541.337 *
SECONDARY_NW_QUAD_XY 313061.204 5305214.073 *
SECONDARY_NE_QUAD_XY 322407.599 5304918.988 *
SECONDARY_SE_QUAD_XY 321980.694 5291027.407 *
SECONDARY_SW_QUAD_XY 312611.806 5291322.618 *
RMSE_XY 1.42 *
IMAGE_SOURCE "BLACK AND WHITE FILM" *
SOURCE_IMAGE_ID "NAPP 12676 28" *
SOURCE_IMAGE_DATE 2003 9 24 *
SOURCE_IMAGE_ID "NAPP 12676 30" *
SOURCE_IMAGE_DATE 2003 9 24 *
SOURCE_IMAGE_ID "NAPP 12659 191" *
SOURCE_IMAGE_DATE 2002 9 13 *
SOURCE_IMAGE_ID "NAPP 12659 193" *
SOURCE_IMAGE_DATE 2002 9 13 *
SOURCE_IMAGE_ID "NAPP 12676 27" *
SOURCE_IMAGE_DATE 2003 9 24 *
SOURCE_IMAGE_ID "NAPP 12676 29" *
SOURCE_IMAGE_DATE 2003 9 24 *
SOURCE_IMAGE_ID "NAPP 12676 31" *
SOURCE_IMAGE_DATE 2003 9 24 *
SOURCE_IMAGE_ID "NAPP 12659 194" *
SOURCE_IMAGE_DATE 2002 9 13 *
SOURCE_IMAGE_ID "NAPP 12659 192" *
SOURCE_IMAGE_DATE 2002 9 13 *
SOURCE_IMAGE_ID "NAPP 12659 190" *
SOURCE_IMAGE_DATE 2002 9 13 *
SOURCE_IMAGE_ID "NAPP 12679 31" *
SOURCE_IMAGE_DATE 2003 9 27 *
SOURCE_IMAGE_ID "NAPP 12679 32" *
SOURCE_IMAGE_DATE 2003 9 27 *
SOURCE_IMAGE_ID "NAPP 12679 33" *
SOURCE_IMAGE_DATE 2003 9 27 *
SOURCE_IMAGE_ID "NAPP 12679 34" *
SOURCE_IMAGE_DATE 2003 9 27 *
SOURCE_IMAGE_ID "NAPP 12679 35" *
SOURCE_IMAGE_DATE 2003 9 27 *
SOURCE_IMAGE_ID "NAPP 12659 129" *
SOURCE_IMAGE_DATE 2002 9 13 *
SOURCE_IMAGE_ID "NAPP 12659 130" *
SOURCE_IMAGE_DATE 2002 9 13 *
SOURCE_IMAGE_ID "NAPP 12659 131" *
SOURCE_IMAGE_DATE 2002 9 13 *
SOURCE_IMAGE_ID "NAPP 12659 132" *
SOURCE_IMAGE_DATE 2002 9 13 *
SOURCE_IMAGE_ID "NAPP 12659 133" *
SOURCE_IMAGE_DATE 2002 9 13 *
SOURCE_DEM_DATE 2004 1 1 *
AGENCY "WESTERN MAPPING CENTER (WMC)" *
PRODUCER "USDA FS GEOSPATIAL SERVICE AND TECHNOLOGY CENTER" *
PRODUCTION_SYSTEM "ORBIT OR_RECTIFY V.5.2" *
STANDARD_VERSION 1996 12 *
METADATA_DATE 2004 10 4 *
DATA_FILE_SIZE 154783488 *
BYTE_COUNT 10464 * *
