FILENAME: O4711316.SWS.958315.tif
QUADRANGLE_NAME: THREE SISTERS
QUADRANT: SW
WEST_LONGITUDE: -113 7 30.00000
EAST_LONGITUDE: -113 3 45.00000
NORTH_LATITUDE: 47 48 45.00000
SOUTH_LATITUDE: 47 45 0.00000
PRODUCTION_DATE: 1998 12 09
RASTER_ORDER: LEFT_RIGHT/TOP_BOTTOM
BAND_ORGANIZATION: SINGLE FILE
BAND_CONTENT: BLACK&WHITE
BAND_CONTENT: UNDEFINED
BAND_CONTENT: UNDEFINED
BITS_PER_PIXEL: 8
SAMPLES_AND_LINES: 5550 7710
HORIZONTAL_DATUM: NAD83
HORIZONTAL_COORDINATE_SYSTEM: UTM
COORDINATE_ZONE: 12
HORIZONTAL_UNITS: METERS
HORIZONTAL_RESOLUTION: 1.00000
SECONDARY_HORIZONTAL_DATUM: NAD27
XY_ORIGIN: 340350.00000 5297970.00000
SECONDARY_XY_ORIGIN: 340412.34100 5297755.64600
NATION: US
STATE: MT
NW_QUAD_CORNER_XY: 340914.55800 5297647.07900
NE_QUAD_CORNER_XY: 345593.34300 5297520.33700
SE_QUAD_CORNERY_XY: 345408.09000 5290574.42000
SW_QUAD_CORNER_XY: 340723.68800 5290701.18800
SECONDARY_NW_QUAD_XY: 340909.57100 5297428.31500
SECONDARY_NE_QUAD_XY: 345588.50200 5297301.57000
SECONDARY_SE_QUAD_XY: 345403.25000 5290355.67000
SECONDARY_SW_QUAD_XY: 340718.70100 5290482.44200
RMSE_XY: 3.62000
IMAGE_SOURCE: BLACK AND WHITE FILM
SOURCE_IMAGE_ID: NAPP 8401 99
SOURCE_IMAGE_DATE: 1995 08 31
SOURCE_IMAGE_ID: NAPP 8401 60
SOURCE_IMAGE_DATE: 1995 08 31
SOURCE_IMAGE_ID: NAPP 8401 97
SOURCE_IMAGE_DATE: 1995 08 31
SOURCE_DEM_DATE: 1995 00 00
AGENCY: WESTERN MAPPING CENTER (WMC)
PRODUCER: ANALYTICAL SURVEYS INC.
PRODUCTION_SYSTEM: ORBIT OR_RECTIFY V.5.2
COMPRESSION: UNDEFINED
STANDARD_VERSION: 1996 12
METADATA_DATE: 1998 12 16
DATA_FILE_SIZE: 42796050
BYTE_COUNT: 5550
