FILENAME: O4711316.SES.958314.tif
QUADRANGLE_NAME: THREE SISTERS
QUADRANT: SE
WEST_LONGITUDE: -113 3 45.00000
EAST_LONGITUDE: -113 0 0.00000
NORTH_LATITUDE: 47 48 45.00000
SOUTH_LATITUDE: 47 45 0.00000
PRODUCTION_DATE: 1998 12 09
RASTER_ORDER: LEFT_RIGHT/TOP_BOTTOM
BAND_ORGANIZATION: SINGLE FILE
BAND_CONTENT: BLACK&WHITE
BAND_CONTENT: UNDEFINED
BAND_CONTENT: UNDEFINED
BITS_PER_PIXEL: 8
SAMPLES_AND_LINES: 5550 7710
HORIZONTAL_DATUM: NAD83
HORIZONTAL_COORDINATE_SYSTEM: UTM
COORDINATE_ZONE: 12
HORIZONTAL_UNITS: METERS
HORIZONTAL_RESOLUTION: 1.00000
SECONDARY_HORIZONTAL_DATUM: NAD27
XY_ORIGIN: 345030.00000 5297850.00000
SECONDARY_XY_ORIGIN: 345092.24800 5297635.65100
NATION: US
STATE: MT
NW_QUAD_CORNER_XY: 345593.34300 5297520.33700
NE_QUAD_CORNER_XY: 350272.14500 5297397.38200
SE_QUAD_CORNERY_XY: 350092.51000 5290451.43800
SW_QUAD_CORNER_XY: 345408.09000 5290574.42000
SECONDARY_NW_QUAD_XY: 345588.50200 5297301.57000
SECONDARY_NE_QUAD_XY: 350267.45100 5297178.61100
SECONDARY_SE_QUAD_XY: 350087.81700 5290232.68500
SECONDARY_SW_QUAD_XY: 345403.25000 5290355.67000
RMSE_XY: 2.89000
IMAGE_SOURCE: BLACK AND WHITE FILM
SOURCE_IMAGE_ID: NAPP 8401 60
SOURCE_IMAGE_DATE: 1995 08 31
SOURCE_DEM_DATE: 1995 00 00
AGENCY: WESTERN MAPPING CENTER (WMC)
PRODUCER: ANALYTICAL SURVEYS INC.
PRODUCTION_SYSTEM: ORBIT OR_RECTIFY V.5.2
COMPRESSION: UNDEFINED
STANDARD_VERSION: 1996 12
METADATA_DATE: 1998 12 16
DATA_FILE_SIZE: 42796050
BYTE_COUNT: 5550
