FILENAME: O4711316.NWS.958313.tif
QUADRANGLE_NAME: THREE SISTERS
QUADRANT: NW
WEST_LONGITUDE: -113 7 30.00000
EAST_LONGITUDE: -113 3 45.00000
NORTH_LATITUDE: 47 52 30.00000
SOUTH_LATITUDE: 47 48 45.00000
PRODUCTION_DATE: 1998 12 10
RASTER_ORDER: LEFT_RIGHT/TOP_BOTTOM
BAND_ORGANIZATION: SINGLE FILE
BAND_CONTENT: BLACK&WHITE
BAND_CONTENT: UNDEFINED
BAND_CONTENT: UNDEFINED
BITS_PER_PIXEL: 8
SAMPLES_AND_LINES: 5550 7710
HORIZONTAL_DATUM: NAD83
HORIZONTAL_COORDINATE_SYSTEM: UTM
COORDINATE_ZONE: 12
HORIZONTAL_UNITS: METERS
HORIZONTAL_RESOLUTION: 1.00000
SECONDARY_HORIZONTAL_DATUM: NAD27
XY_ORIGIN: 340530.00000 5304900.00000
SECONDARY_XY_ORIGIN: 340592.39600 5304685.43000
NATION: US
STATE: MT
NW_QUAD_CORNER_XY: 341105.61900 5304593.03600
NE_QUAD_CORNER_XY: 345778.78000 5304466.32200
SE_QUAD_CORNERY_XY: 345593.34300 5297520.33700
SW_QUAD_CORNER_XY: 340914.55800 5297647.07900
SECONDARY_NW_QUAD_XY: 341100.63200 5304374.25500
SECONDARY_NE_QUAD_XY: 345773.93900 5304247.53700
SECONDARY_SE_QUAD_XY: 345588.50200 5297301.57000
SECONDARY_SW_QUAD_XY: 340909.57100 5297428.31500
RMSE_XY: 2.17900
IMAGE_SOURCE: BLACK AND WHITE FILM
SOURCE_IMAGE_ID: NAPP 8401 97
SOURCE_IMAGE_DATE: 1995 08 31
SOURCE_DEM_DATE: 1995 00 00
AGENCY: WESTERN MAPPING CENTER (WMC)
PRODUCER: ANALYTICAL SURVEYS INC.
PRODUCTION_SYSTEM: ORBIT OR_RECTIFY V.5.2
COMPRESSION: UNDEFINED
STANDARD_VERSION: 1996 12
METADATA_DATE: 1998 12 16
DATA_FILE_SIZE: 42796050
BYTE_COUNT: 5550
