Note: This header file was extracted from a digital orthophoto image that covers a full 7.5-minute quadrangle in Universal Transverse Mercator Coordinates. The State Library converted that image to Montana State Plane Coordinates, units meters, and extracted portions of the image that cover a 3.75-minute quarter-quadrangle. The coordinates given in this file do not apply to the State Plane Coordinate images.
BEGIN_USGS_DOQ_HEADER *
QUADRANGLE_NAME "CEDAR LAKE" *
QUADRANT *
WEST_LONGITUDE -114 0 0.000 *
EAST_LONGITUDE -113 52 30.000 *
NORTH_LATITUDE 47 45 0.000 *
SOUTH_LATITUDE 47 37 30.000 *
PRODUCTION_DATE 2004 9 28 *
RASTER_ORDER LEFT_RIGHT/TOP_BOTTOM *
BAND_ORGANIZATION "SINGLE FILE" *
BAND_CONTENT BLACK&WHITE *
BITS_PER_PIXEL 8 *
SAMPLES_AND_LINES 10577 14851 *
HORIZONTAL_DATUM NAD83 *
HORIZONTAL_COORDINATE_SYSTEM UTM *
COORDINATE_ZONE 12 *
HORIZONTAL_UNITS METERS *
HORIZONTAL_RESOLUTION 1.0 *
SECONDARY_HORIZONTAL_DATUM NAD27 *
XY_ORIGIN 274235.008 5293173.727 *
SECONDARY_XY_ORIGIN 274298.691 5292958.848 *
NATION US *
STATE MT *
NW_QUAD_CORNER_XY 275144.193 5292873.727 *
NE_QUAD_CORNER_XY 284512.420 5292517.887 *
SE_QUAD_CORNER_XY 283996.551 5278627.042 *
SW_QUAD_CORNER_XY 274605.861 5278983.028 *
SECONDARY_NW_QUAD_XY 275137.156 5292655.050 *
SECONDARY_NE_QUAD_XY 284505.675 5292299.199 *
SECONDARY_SE_QUAD_XY 283989.808 5278408.392 *
SECONDARY_SW_QUAD_XY 274598.826 5278764.388 *
RMSE_XY 0.99 *
IMAGE_SOURCE "BLACK AND WHITE FILM" *
SOURCE_IMAGE_ID "NAPP 12666 196" *
SOURCE_IMAGE_DATE 2003 7 1 *
SOURCE_IMAGE_ID "NAPP 12666 194" *
SOURCE_IMAGE_DATE 2003 7 1 *
SOURCE_IMAGE_ID "NAPP 12679 261" *
SOURCE_IMAGE_DATE 2003 9 27 *
SOURCE_IMAGE_ID "NAPP 12679 263" *
SOURCE_IMAGE_DATE 2003 9 27 *
SOURCE_IMAGE_ID "NAPP 12666 197" *
SOURCE_IMAGE_DATE 2003 7 1 *
SOURCE_IMAGE_ID "NAPP 12666 195" *
SOURCE_IMAGE_DATE 2003 7 1 *
SOURCE_IMAGE_ID "NAPP 12666 193" *
SOURCE_IMAGE_DATE 2003 7 1 *
SOURCE_IMAGE_ID "NAPP 12679 264" *
SOURCE_IMAGE_DATE 2003 9 27 *
SOURCE_IMAGE_ID "NAPP 12679 262" *
SOURCE_IMAGE_DATE 2003 9 27 *
SOURCE_IMAGE_ID "NAPP 12679 260" *
SOURCE_IMAGE_DATE 2003 9 27 *
SOURCE_IMAGE_ID "NAPP 12677 169" *
SOURCE_IMAGE_DATE 2003 9 24 *
SOURCE_IMAGE_ID "NAPP 12677 168" *
SOURCE_IMAGE_DATE 2003 9 24 *
SOURCE_IMAGE_ID "NAPP 12677 167" *
SOURCE_IMAGE_DATE 2003 9 24 *
SOURCE_IMAGE_ID "NAPP 12677 166" *
SOURCE_IMAGE_DATE 2003 9 24 *
SOURCE_IMAGE_ID "NAPP 12677 165" *
SOURCE_IMAGE_DATE 2003 9 24 *
SOURCE_DEM_DATE 2004 1 1 *
AGENCY "WESTERN MAPPING CENTER (WMC)" *
PRODUCER "USDA FS GEOSPATIAL SERVICE AND TECHNOLOGY CENTER" *
PRODUCTION_SYSTEM "ORBIT OR_RECTIFY V.5.2" *
STANDARD_VERSION 1996 12 *
METADATA_DATE 2004 10 4 *
DATA_FILE_SIZE 157089604 *
BYTE_COUNT 10577 * *
