Note: This header file was extracted from a digital orthophoto image that covers a full 7.5-minute quadrangle in Universal Transverse Mercator Coordinates. The State Library converted that image to Montana State Plane Coordinates, units meters, and extracted portions of the image that cover a 3.75-minute quarter-quadrangle. The coordinates given in this file do not apply to the State Plane Coordinate images.
BEGIN_USGS_DOQ_HEADER *
QUADRANGLE_NAME "MARMOT MOUNTAIN" *
QUADRANT *
WEST_LONGITUDE -113 30 0.000 *
EAST_LONGITUDE -113 22 30.000 *
NORTH_LATITUDE 47 45 0.000 *
SOUTH_LATITUDE 47 37 30.000 *
PRODUCTION_DATE 2004 9 28 *
RASTER_ORDER LEFT_RIGHT/TOP_BOTTOM *
BAND_ORGANIZATION "SINGLE FILE" *
BAND_CONTENT BLACK&WHITE *
BITS_PER_PIXEL 8 *
SAMPLES_AND_LINES 10486 14791 *
HORIZONTAL_DATUM NAD83 *
HORIZONTAL_COORDINATE_SYSTEM UTM *
COORDINATE_ZONE 12 *
HORIZONTAL_UNITS METERS *
HORIZONTAL_RESOLUTION 1.0 *
SECONDARY_HORIZONTAL_DATUM NAD27 *
XY_ORIGIN 311800.200 5291841.337 *
SECONDARY_XY_ORIGIN 311863.340 5291626.942 *
NATION US *
STATE MT *
NW_QUAD_CORNER_XY 312617.670 5291541.337 *
NE_QUAD_CORNER_XY 321986.263 5291246.135 *
SE_QUAD_CORNER_XY 321560.209 5277354.771 *
SW_QUAD_CORNER_XY 312169.169 5277650.094 *
SECONDARY_NW_QUAD_XY 312611.806 5291322.618 *
SECONDARY_NE_QUAD_XY 321980.694 5291027.407 *
SECONDARY_SE_QUAD_XY 321554.641 5277136.081 *
SECONDARY_SW_QUAD_XY 312163.306 5277431.412 *
RMSE_XY 1.42 *
IMAGE_SOURCE "BLACK AND WHITE FILM" *
SOURCE_IMAGE_ID "NAPP 12676 24" *
SOURCE_IMAGE_DATE 2003 9 24 *
SOURCE_IMAGE_ID "NAPP 12676 26" *
SOURCE_IMAGE_DATE 2003 9 24 *
SOURCE_IMAGE_ID "NAPP 12659 195" *
SOURCE_IMAGE_DATE 2002 9 13 *
SOURCE_IMAGE_ID "NAPP 12659 197" *
SOURCE_IMAGE_DATE 2002 9 13 *
SOURCE_IMAGE_ID "NAPP 12676 23" *
SOURCE_IMAGE_DATE 2003 9 24 *
SOURCE_IMAGE_ID "NAPP 12676 25" *
SOURCE_IMAGE_DATE 2003 9 24 *
SOURCE_IMAGE_ID "NAPP 12676 27" *
SOURCE_IMAGE_DATE 2003 9 24 *
SOURCE_IMAGE_ID "NAPP 12659 198" *
SOURCE_IMAGE_DATE 2002 9 13 *
SOURCE_IMAGE_ID "NAPP 12659 196" *
SOURCE_IMAGE_DATE 2002 9 13 *
SOURCE_IMAGE_ID "NAPP 12659 194" *
SOURCE_IMAGE_DATE 2002 9 13 *
SOURCE_IMAGE_ID "NAPP 12679 27" *
SOURCE_IMAGE_DATE 2003 9 27 *
SOURCE_IMAGE_ID "NAPP 12679 28" *
SOURCE_IMAGE_DATE 2003 9 27 *
SOURCE_IMAGE_ID "NAPP 12679 29" *
SOURCE_IMAGE_DATE 2003 9 27 *
SOURCE_IMAGE_ID "NAPP 12679 30" *
SOURCE_IMAGE_DATE 2003 9 27 *
SOURCE_IMAGE_ID "NAPP 12679 31" *
SOURCE_IMAGE_DATE 2003 9 27 *
SOURCE_IMAGE_ID "NAPP 12659 125" *
SOURCE_IMAGE_DATE 2002 9 13 *
SOURCE_IMAGE_ID "NAPP 12659 126" *
SOURCE_IMAGE_DATE 2002 9 13 *
SOURCE_IMAGE_ID "NAPP 12659 127" *
SOURCE_IMAGE_DATE 2002 9 13 *
SOURCE_IMAGE_ID "NAPP 12659 128" *
SOURCE_IMAGE_DATE 2002 9 13 *
SOURCE_IMAGE_ID "NAPP 12659 129" *
SOURCE_IMAGE_DATE 2002 9 13 *
SOURCE_DEM_DATE 2004 1 1 *
AGENCY "WESTERN MAPPING CENTER (WMC)" *
PRODUCER "USDA FS GEOSPATIAL SERVICE AND TECHNOLOGY CENTER" *
PRODUCTION_SYSTEM "ORBIT OR_RECTIFY V.5.2" *
STANDARD_VERSION 1996 12 *
METADATA_DATE 2004 10 4 *
DATA_FILE_SIZE 155108912 *
BYTE_COUNT 10486 * *
