FILENAME: O4711323.SWS.958275.tif
QUADRANGLE_NAME: AMPHITHEATRE MOUNTAIN
QUADRANT: SW
WEST_LONGITUDE: -113 15 0.00000
EAST_LONGITUDE: -113 11 15.00000
NORTH_LATITUDE: 47 41 15.00000
SOUTH_LATITUDE: 47 37 30.00000
PRODUCTION_DATE: 1998 12 10
RASTER_ORDER: LEFT_RIGHT/TOP_BOTTOM
BAND_ORGANIZATION: SINGLE FILE
BAND_CONTENT: BLACK&WHITE
BAND_CONTENT: UNDEFINED
BAND_CONTENT: UNDEFINED
BITS_PER_PIXEL: 8
SAMPLES_AND_LINES: 5580 7740
HORIZONTAL_DATUM: NAD83
HORIZONTAL_COORDINATE_SYSTEM: UTM
COORDINATE_ZONE: 12
HORIZONTAL_UNITS: METERS
HORIZONTAL_RESOLUTION: 1.00000
SECONDARY_HORIZONTAL_DATUM: NAD27
XY_ORIGIN: 330570.00000 5284350.00000
SECONDARY_XY_ORIGIN: 330632.44100 5284135.91700
NATION: US
STATE: MT
NW_QUAD_CORNER_XY: 331153.03100 5284020.31500
NE_QUAD_CORNER_XY: 335843.01100 5283885.94400
SE_QUAD_CORNERY_XY: 335646.91500 5276940.21100
SW_QUAD_CORNER_XY: 330951.32800 5277074.60800
SECONDARY_NW_QUAD_XY: 331147.75200 5283801.59600
SECONDARY_NE_QUAD_XY: 335837.87700 5283667.22100
SECONDARY_SE_QUAD_XY: 335641.78200 5276721.50700
SECONDARY_SW_QUAD_XY: 330946.04900 5276855.90800
RMSE_XY: 3.21000
IMAGE_SOURCE: BLACK AND WHITE FILM
SOURCE_IMAGE_ID: NAPP 8398 141
SOURCE_IMAGE_DATE: 1995 08 28
SOURCE_IMAGE_ID: NAPP 8398 142
SOURCE_IMAGE_DATE: 1995 08 28
SOURCE_IMAGE_ID: NAPP 8398 140
SOURCE_IMAGE_DATE: 1995 08 28
SOURCE_IMAGE_ID: NAPP 8398 143
SOURCE_IMAGE_DATE: 1995 08 28
SOURCE_IMAGE_ID: NAPP 8401 142
SOURCE_IMAGE_DATE: 1995 08 31
SOURCE_DEM_DATE: 1997 00 00
AGENCY: WESTERN MAPPING CENTER (WMC)
PRODUCER: ANALYTICAL SURVEYS INC.
PRODUCTION_SYSTEM: ORBIT OR_RECTIFY V.5.2
COMPRESSION: UNDEFINED
STANDARD_VERSION: 1996 12
METADATA_DATE: 1998 12 21
DATA_FILE_SIZE: 43194780
BYTE_COUNT: 5580
