FILENAME: O4711324.SES.958298.tif
QUADRANGLE_NAME: SLATEGOAT MOUNTAIN
QUADRANT: SE
WEST_LONGITUDE: -113 3 45.00000
EAST_LONGITUDE: -113 0 0.00000
NORTH_LATITUDE: 47 41 15.00000
SOUTH_LATITUDE: 47 37 30.00000
PRODUCTION_DATE: 1998 12 10
RASTER_ORDER: LEFT_RIGHT/TOP_BOTTOM
BAND_ORGANIZATION: SINGLE FILE
BAND_CONTENT: BLACK&WHITE
BAND_CONTENT: UNDEFINED
BAND_CONTENT: UNDEFINED
BITS_PER_PIXEL: 8
SAMPLES_AND_LINES: 5550 7680
HORIZONTAL_DATUM: NAD83
HORIZONTAL_COORDINATE_SYSTEM: UTM
COORDINATE_ZONE: 12
HORIZONTAL_UNITS: METERS
HORIZONTAL_RESOLUTION: 1.00000
SECONDARY_HORIZONTAL_DATUM: NAD27
XY_ORIGIN: 344670.00000 5283930.00000
SECONDARY_XY_ORIGIN: 344732.20200 5283715.90700
NATION: US
STATE: MT
NW_QUAD_CORNER_XY: 345223.02300 5283628.56800
NE_QUAD_CORNER_XY: 349913.05500 5283505.56100
SE_QUAD_CORNERY_XY: 349733.78000 5276559.75100
SW_QUAD_CORNER_XY: 345038.14100 5276682.78300
SECONDARY_NW_QUAD_XY: 345218.18300 5283409.83700
SECONDARY_NE_QUAD_XY: 349908.36200 5283286.82600
SECONDARY_SE_QUAD_XY: 349729.08700 5276341.03600
SECONDARY_SW_QUAD_XY: 345033.30200 5276464.07100
RMSE_XY: 3.09000
IMAGE_SOURCE: BLACK AND WHITE FILM
SOURCE_IMAGE_ID: NAPP 8401 56
SOURCE_IMAGE_DATE: 1995 08 31
SOURCE_IMAGE_ID: NAPP 8401 55
SOURCE_IMAGE_DATE: 1995 08 31
SOURCE_DEM_DATE: 1988 00 00
AGENCY: WESTERN MAPPING CENTER (WMC)
PRODUCER: ANALYTICAL SURVEYS INC.
PRODUCTION_SYSTEM: ORBIT OR_RECTIFY V.5.2
COMPRESSION: UNDEFINED
STANDARD_VERSION: 1996 12
METADATA_DATE: 1998 12 31
DATA_FILE_SIZE: 42629550
BYTE_COUNT: 5550
