FILENAME: O4711324.NES.958296.tif
QUADRANGLE_NAME: SLATEGOAT MOUNTAIN
QUADRANT: NE
WEST_LONGITUDE: -113 3 45.00000
EAST_LONGITUDE: -113 0 0.00000
NORTH_LATITUDE: 47 45 0.00000
SOUTH_LATITUDE: 47 41 15.00000
PRODUCTION_DATE: 1998 12 18
RASTER_ORDER: LEFT_RIGHT/TOP_BOTTOM
BAND_ORGANIZATION: SINGLE FILE
BAND_CONTENT: BLACK&WHITE
BAND_CONTENT: UNDEFINED
BAND_CONTENT: UNDEFINED
BITS_PER_PIXEL: 8
SAMPLES_AND_LINES: 5550 7710
HORIZONTAL_DATUM: NAD83
HORIZONTAL_COORDINATE_SYSTEM: UTM
COORDINATE_ZONE: 12
HORIZONTAL_UNITS: METERS
HORIZONTAL_RESOLUTION: 1.00000
SECONDARY_HORIZONTAL_DATUM: NAD27
XY_ORIGIN: 344850.00000 5290890.00000
SECONDARY_XY_ORIGIN: 344912.21400 5290675.87000
NATION: US
STATE: MT
NW_QUAD_CORNER_XY: 345408.09000 5290574.42000
NE_QUAD_CORNER_XY: 350092.51000 5290451.43800
SE_QUAD_CORNERY_XY: 349913.05500 5283505.56100
SW_QUAD_CORNER_XY: 345223.02300 5283628.56800
SECONDARY_NW_QUAD_XY: 345403.25000 5290355.67000
SECONDARY_NE_QUAD_XY: 350087.81700 5290232.68500
SECONDARY_SE_QUAD_XY: 349908.36200 5283286.82600
SECONDARY_SW_QUAD_XY: 345218.18300 5283409.83700
RMSE_XY: 2.13000
IMAGE_SOURCE: BLACK AND WHITE FILM
SOURCE_IMAGE_ID: NAPP 8401 58
SOURCE_IMAGE_DATE: 1995 08 31
SOURCE_IMAGE_ID: NAPP 8401 56
SOURCE_IMAGE_DATE: 1995 08 31
SOURCE_DEM_DATE: 1988 00 00
AGENCY: WESTERN MAPPING CENTER (WMC)
PRODUCER: ANALYTICAL SURVEYS INC.
PRODUCTION_SYSTEM: ORBIT OR_RECTIFY V.5.2
COMPRESSION: UNDEFINED
STANDARD_VERSION: 1996 12
METADATA_DATE: 1998 12 31
DATA_FILE_SIZE: 42796050
BYTE_COUNT: 5550
