Note: This header file was extracted from a digital orthophoto image that covers a full 7.5-minute quadrangle in Universal Transverse Mercator Coordinates. The State Library converted that image to Montana State Plane Coordinates, units meters, and extracted portions of the image that cover a 3.75-minute quarter-quadrangle. The coordinates given in this file do not apply to the State Plane Coordinate images.
BEGIN_USGS_DOQ_HEADER *
QUADRANGLE_NAME "PIPER-CROW PASS" *
QUADRANT *
WEST_LONGITUDE -114 0 0.000 *
EAST_LONGITUDE -113 52 30.000 *
NORTH_LATITUDE 47 37 30.000 *
SOUTH_LATITUDE 47 30 0.000 *
PRODUCTION_DATE 2004 9 28 *
RASTER_ORDER LEFT_RIGHT/TOP_BOTTOM *
BAND_ORGANIZATION "SINGLE FILE" *
BAND_CONTENT BLACK&WHITE *
BITS_PER_PIXEL 8 *
SAMPLES_AND_LINES 10599 14851 *
HORIZONTAL_DATUM NAD83 *
HORIZONTAL_COORDINATE_SYSTEM UTM *
COORDINATE_ZONE 12 *
HORIZONTAL_UNITS METERS *
HORIZONTAL_RESOLUTION 1.0 *
SECONDARY_HORIZONTAL_DATUM NAD27 *
XY_ORIGIN 273697.600 5279283.028 *
SECONDARY_XY_ORIGIN 273761.442 5279068.603 *
NATION US *
STATE MT *
NW_QUAD_CORNER_XY 274605.861 5278983.028 *
NE_QUAD_CORNER_XY 283996.551 5278627.042 *
SE_QUAD_CORNER_XY 283481.717 5264736.425 *
SW_QUAD_CORNER_XY 274068.608 5265092.549 *
SECONDARY_NW_QUAD_XY 274598.826 5278764.388 *
SECONDARY_NE_QUAD_XY 283989.808 5278408.392 *
SECONDARY_SE_QUAD_XY 283474.976 5264517.816 *
SECONDARY_SW_QUAD_XY 274061.574 5264873.951 *
RMSE_XY 1.13 *
IMAGE_SOURCE "BLACK AND WHITE FILM" *
SOURCE_IMAGE_ID "NAPP 12666 200" *
SOURCE_IMAGE_DATE 2003 7 1 *
SOURCE_IMAGE_ID "NAPP 12666 198" *
SOURCE_IMAGE_DATE 2003 7 1 *
SOURCE_IMAGE_ID "NAPP 12679 265" *
SOURCE_IMAGE_DATE 2003 9 27 *
SOURCE_IMAGE_ID "NAPP 12679 267" *
SOURCE_IMAGE_DATE 2003 9 27 *
SOURCE_IMAGE_ID "NAPP 12680 19" *
SOURCE_IMAGE_DATE 2003 9 27 *
SOURCE_IMAGE_ID "NAPP 12666 199" *
SOURCE_IMAGE_DATE 2003 7 1 *
SOURCE_IMAGE_ID "NAPP 12666 197" *
SOURCE_IMAGE_DATE 2003 7 1 *
SOURCE_IMAGE_ID "NAPP 12679 268" *
SOURCE_IMAGE_DATE 2003 9 27 *
SOURCE_IMAGE_ID "NAPP 12679 266" *
SOURCE_IMAGE_DATE 2003 9 27 *
SOURCE_IMAGE_ID "NAPP 12679 264" *
SOURCE_IMAGE_DATE 2003 9 27 *
SOURCE_IMAGE_ID "NAPP 12677 173" *
SOURCE_IMAGE_DATE 2003 9 24 *
SOURCE_IMAGE_ID "NAPP 12677 172" *
SOURCE_IMAGE_DATE 2003 9 24 *
SOURCE_IMAGE_ID "NAPP 12677 171" *
SOURCE_IMAGE_DATE 2003 9 24 *
SOURCE_IMAGE_ID "NAPP 12677 170" *
SOURCE_IMAGE_DATE 2003 9 24 *
SOURCE_IMAGE_ID "NAPP 12677 169" *
SOURCE_IMAGE_DATE 2003 9 24 *
SOURCE_DEM_DATE 2004 1 1 *
AGENCY "WESTERN MAPPING CENTER (WMC)" *
PRODUCER "USDA FS GEOSPATIAL SERVICE AND TECHNOLOGY CENTER" *
PRODUCTION_SYSTEM "ORBIT OR_RECTIFY V.5.2" *
STANDARD_VERSION 1996 12 *
METADATA_DATE 2004 10 4 *
DATA_FILE_SIZE 157416348 *
BYTE_COUNT 10599 * *
