FILENAME: O4711332.NWS.958301.tif
QUADRANGLE_NAME: PRAIRIE REEF
QUADRANT: NW
WEST_LONGITUDE: -113 7 30.00000
EAST_LONGITUDE: -113 3 45.00000
NORTH_LATITUDE: 47 37 30.00000
SOUTH_LATITUDE: 47 33 45.00000
PRODUCTION_DATE: 1998 12 18
RASTER_ORDER: LEFT_RIGHT/TOP_BOTTOM
BAND_ORGANIZATION: SINGLE FILE
BAND_CONTENT: BLACK&WHITE
BAND_CONTENT: UNDEFINED
BAND_CONTENT: UNDEFINED
BITS_PER_PIXEL: 8
SAMPLES_AND_LINES: 5580 7710
HORIZONTAL_DATUM: NAD83
HORIZONTAL_COORDINATE_SYSTEM: UTM
COORDINATE_ZONE: 12
HORIZONTAL_UNITS: METERS
HORIZONTAL_RESOLUTION: 1.00000
SECONDARY_HORIZONTAL_DATUM: NAD27
XY_ORIGIN: 339780.00000 5277120.00000
SECONDARY_XY_ORIGIN: 339842.27100 5276905.95200
NATION: US
STATE: MT
NW_QUAD_CORNER_XY: 340342.51900 5276809.60200
NE_QUAD_CORNER_XY: 345038.14100 5276682.78300
SE_QUAD_CORNERY_XY: 344853.44500 5269737.06300
SW_QUAD_CORNER_XY: 340152.22200 5269863.90800
SECONDARY_NW_QUAD_XY: 340337.53300 5276590.89400
SECONDARY_NE_QUAD_XY: 345033.30200 5276464.07100
SECONDARY_SE_QUAD_XY: 344848.60600 5269518.37200
SECONDARY_SW_QUAD_XY: 340147.23600 5269645.22000
RMSE_XY: 3.55000
IMAGE_SOURCE: BLACK AND WHITE FILM
SOURCE_IMAGE_ID: NAPP 8401 105
SOURCE_IMAGE_DATE: 1995 08 31
SOURCE_IMAGE_ID: NAPP 8401 106
SOURCE_IMAGE_DATE: 1995 08 31
SOURCE_DEM_DATE: 1988 00 00
AGENCY: WESTERN MAPPING CENTER (WMC)
PRODUCER: ANALYTICAL SURVEYS INC.
PRODUCTION_SYSTEM: ORBIT OR_RECTIFY V.5.2
COMPRESSION: UNDEFINED
STANDARD_VERSION: 1996 12
METADATA_DATE: 1998 12 31
DATA_FILE_SIZE: 43027380
BYTE_COUNT: 5580
