Note: This header file was extracted from a digital orthophoto image that covers a full 7.5-minute quadrangle in Universal Transverse Mercator Coordinates. The State Library converted that image to Montana State Plane Coordinates, units meters, and extracted portions of the image that cover a 3.75-minute quarter-quadrangle. The coordinates given in this file do not apply to the State Plane Coordinate images.
BEGIN_USGS_DOQ_HEADER *
QUADRANGLE_NAME "SHAW CREEK" *
QUADRANT *
WEST_LONGITUDE -113 30 0.000 *
EAST_LONGITUDE -113 22 30.000 *
NORTH_LATITUDE 47 30 0.000 *
SOUTH_LATITUDE 47 22 30.000 *
PRODUCTION_DATE 2004 9 28 *
RASTER_ORDER LEFT_RIGHT/TOP_BOTTOM *
BAND_ORGANIZATION "SINGLE FILE" *
BAND_CONTENT BLACK&WHITE *
BITS_PER_PIXEL 8 *
SAMPLES_AND_LINES 10529 14791 *
HORIZONTAL_DATUM NAD83 *
HORIZONTAL_COORDINATE_SYSTEM UTM *
COORDINATE_ZONE 12 *
HORIZONTAL_UNITS METERS *
HORIZONTAL_RESOLUTION 1.0 *
SECONDARY_HORIZONTAL_DATUM NAD27 *
XY_ORIGIN 310905.804 5264059.096 *
SECONDARY_XY_ORIGIN 310968.900 5263845.152 *
NATION US *
STATE MT *
NW_QUAD_CORNER_XY 311721.566 5263759.096 *
NE_QUAD_CORNER_XY 321135.010 5263463.659 *
SE_QUAD_CORNER_XY 320710.668 5249572.800 *
SW_QUAD_CORNER_XY 311274.866 5249868.346 *
SECONDARY_NW_QUAD_XY 311715.705 5263540.457 *
SECONDARY_NE_QUAD_XY 321129.443 5263245.011 *
SECONDARY_SE_QUAD_XY 320705.103 5249354.196 *
SECONDARY_SW_QUAD_XY 311269.007 5249649.751 *
RMSE_XY 0.74 *
IMAGE_SOURCE "BLACK AND WHITE FILM" *
SOURCE_IMAGE_ID "NAPP 12676 16" *
SOURCE_IMAGE_DATE 2003 9 24 *
SOURCE_IMAGE_ID "NAPP 12676 18" *
SOURCE_IMAGE_DATE 2003 9 24 *
SOURCE_IMAGE_ID "NAPP 12659 203" *
SOURCE_IMAGE_DATE 2002 9 13 *
SOURCE_IMAGE_ID "NAPP 12659 205" *
SOURCE_IMAGE_DATE 2002 9 13 *
SOURCE_IMAGE_ID "NAPP 12676 15" *
SOURCE_IMAGE_DATE 2003 9 24 *
SOURCE_IMAGE_ID "NAPP 12676 17" *
SOURCE_IMAGE_DATE 2003 9 24 *
SOURCE_IMAGE_ID "NAPP 12676 19" *
SOURCE_IMAGE_DATE 2003 9 24 *
SOURCE_IMAGE_ID "NAPP 12659 206" *
SOURCE_IMAGE_DATE 2002 9 13 *
SOURCE_IMAGE_ID "NAPP 12659 204" *
SOURCE_IMAGE_DATE 2002 9 13 *
SOURCE_IMAGE_ID "NAPP 12659 202" *
SOURCE_IMAGE_DATE 2002 9 13 *
SOURCE_IMAGE_ID "NAPP 12679 23" *
SOURCE_IMAGE_DATE 2003 9 27 *
SOURCE_IMAGE_ID "NAPP 12659 117" *
SOURCE_IMAGE_DATE 2002 9 13 *
SOURCE_IMAGE_ID "NAPP 12659 118" *
SOURCE_IMAGE_DATE 2002 9 13 *
SOURCE_IMAGE_ID "NAPP 12659 119" *
SOURCE_IMAGE_DATE 2002 9 13 *
SOURCE_IMAGE_ID "NAPP 12659 120" *
SOURCE_IMAGE_DATE 2002 9 13 *
SOURCE_IMAGE_ID "NAPP 12659 121" *
SOURCE_IMAGE_DATE 2002 9 13 *
SOURCE_DEM_DATE 2004 1 1 *
AGENCY "WESTERN MAPPING CENTER (WMC)" *
PRODUCER "USDA FS GEOSPATIAL SERVICE AND TECHNOLOGY CENTER" *
PRODUCTION_SYSTEM "ORBIT OR_RECTIFY V.5.2" *
STANDARD_VERSION 1996 12 *
METADATA_DATE 2004 10 4 *
DATA_FILE_SIZE 155744968 *
BYTE_COUNT 10529 * *
