FILENAME: O4711339.SWS.958283.tif
QUADRANGLE_NAME: PILOT PEAK
QUADRANT: SW
WEST_LONGITUDE: -113 15 0.00000
EAST_LONGITUDE: -113 11 15.00000
NORTH_LATITUDE: 47 26 15.00000
SOUTH_LATITUDE: 47 22 30.00000
PRODUCTION_DATE: 1998 12 11
RASTER_ORDER: LEFT_RIGHT/TOP_BOTTOM
BAND_ORGANIZATION: SINGLE FILE
BAND_CONTENT: BLACK&WHITE
BAND_CONTENT: UNDEFINED
BAND_CONTENT: UNDEFINED
BITS_PER_PIXEL: 8
SAMPLES_AND_LINES: 5610 7710
HORIZONTAL_DATUM: NAD83
HORIZONTAL_COORDINATE_SYSTEM: UTM
COORDINATE_ZONE: 12
HORIZONTAL_UNITS: METERS
HORIZONTAL_RESOLUTION: 1.00000
SECONDARY_HORIZONTAL_DATUM: NAD27
XY_ORIGIN: 329760.00000 5256540.00000
SECONDARY_XY_ORIGIN: 329822.47700 5256326.08700
NATION: US
STATE: MT
NW_QUAD_CORNER_XY: 330347.43300 5256237.87400
NE_QUAD_CORNER_XY: 335059.80900 5256103.39900
SE_QUAD_CORNERY_XY: 334864.50200 5249157.92600
SW_QUAD_CORNER_XY: 330146.54000 5249292.42500
SECONDARY_NW_QUAD_XY: 330342.15500 5256019.23800
SECONDARY_NE_QUAD_XY: 335054.67800 5255884.75900
SECONDARY_SE_QUAD_XY: 334859.37200 5248939.30800
SECONDARY_SW_QUAD_XY: 330141.26400 5249073.81100
RMSE_XY: 5.12000
IMAGE_SOURCE: BLACK AND WHITE FILM
SOURCE_IMAGE_ID: NAPP 8398 149
SOURCE_IMAGE_DATE: 1995 08 28
SOURCE_IMAGE_ID: NAPP 8398 148
SOURCE_IMAGE_DATE: 1995 08 28
SOURCE_IMAGE_ID: NAPP 8398 147
SOURCE_IMAGE_DATE: 1995 08 28
SOURCE_DEM_DATE: 1997 00 00
AGENCY: WESTERN MAPPING CENTER (WMC)
PRODUCER: ANALYTICAL SURVEYS INC.
PRODUCTION_SYSTEM: ORBIT OR_RECTIFY V.5.2
COMPRESSION: UNDEFINED
STANDARD_VERSION: 1996 12
METADATA_DATE: 1998 12 22
DATA_FILE_SIZE: 43258710
BYTE_COUNT: 5610
